{"text_format":"1","workbook":"xlsx","n_sheets":7,"sheets":["Intro","Grunddata og resultat","Lyskilder","Motorer","Varme","Guide","Udskrift"],"not_rendered":{"charts":2,"images":12,"macros":1,"external_links":0,"defined_names":0,"comments":2,"pivot_tables":0},"unopened":[],"bounds":{"document_bytes":16777216,"sheet_cells":100000,"rows_first":2000,"rows_last":500,"rows_between":2000,"halvings":0,"cell_chars":16384,"cell_head_chars":4096},"cells_cut":0,"cells_raw":0,"read":"whole","date_system":"1900"}

{"sheet":"Intro","index":0,"n_rows":26,"n_cols":2,"rows_kept":26,"cut":false,"hidden":false,"merged":[[16,1,19,26],[25,1,28,26],[21,1,23,26]]}
[]
[]
[null,"Spændingsstyring i erhvervsvirksomheder - værktøj til fastlæggelse "]
[null,"af muligheder og besparelsespotentialer"]
[]
[]
[null,"Elforsk PSO-projekt nr. 343-004"]
[]
[]
[]
[]
[]
[]
[]
[]
[]
[null,"Elforsk gav i 2011 tilskud til projektet \" Spændingsstyring i erhvervsvirksomheder – værktøj til fastlæggelse af muligheder og besparelsespotentialer\" (PSO 343-004), der bl. a. har til formål at udvikle et værktøj til vurdering af elbesparelsen ved at sænke spændingen i erhvervsvirksomheder. Projektet udføres af Dansk Energi Analyse A/S, Teknologisk Institut, elselskaberne Lokalenergi og Kuben Management (NRGi) samt Københavns Lufthavne."]
[]
[]
[]
[]
[null,"Til brug for udviklingen af værktøjets belysningsdel (faneblad \"Lyskilder\") er der gennemført målinger på Teknologisk Institut af en række lyskilder ved forsynings-/fasespændinger i intervallet 191-254 V."]
[]
[]
[]
[null,"Til brug for udviklingen af værktøjets motordel (faneblad \"Motorer\"), er der gennemført målinger på Teknologisk Instituts elmotor-prøvestand af en række asynkronmotorer ved forsyningsspændinger i intervallet 330-440 V (fasespændinger 191-254 V). Målingerne er udført ved momenter på 0-110% af mærkemomentet. Der er målt på direkte forsynede motorer ved symmetrisk spændingsforsyning."]

{"sheet":"Grunddata og resultat","index":1,"n_rows":78,"n_cols":11,"rows_kept":78,"cut":false,"hidden":false,"merged":[]}
[]
[null,"Værktøj for beregning af elbesparelse ved spændingsstyring"]
[]
[null,"Data indtastes i felter, der er markeret med :",null,"Felter markeret med:",null,"er resultatfelter"]
[]
[null,"Virksomhed/område:"]
[]
[null,"Virksomhedens/områdets elforbrug:",null,"kWh/år"]
[]
[null,"Vurdering udført af:",null,"Fra firma:",null,"Dato:"]
[]
[]
[null,"Spændingssænkning:"]
[]
[null,"Periode","Nuværende sp., V","Spænding sænkes til, V","Spændingsreduktion, %","Driftstid, h/år"]
[null,1,null,null,{"$f":"IF(C16=\"\",0,(C16-D16)/C16*100)","v":0}]
[null,2,null,null,{"$f":"IF(C17=\"\",0,(C17-D17)/C17*100)","v":0}]
[null,3,null,null,{"$f":"IF(C18=\"\",0,(C18-D18)/C18*100)","v":0}]
[null,"Sum",null,null,null,{"$f":"SUM(F16:F18)","v":0}]
[null,"Manglende timer ift. 8760 h/år",null,null,null,{"$f":"8760 - F19","v":8760}]
[]
[]
[null,"Oplysninger om det elforbrugende udstyr udfyldes i arkene \"Lyskilder\", \"Motorer\" og \"Varme\""]
[]
[]
[null,"Resultater:"]
[]
[null,null,"Periode 1",null,"Periode 2",null,"Periode 3",null,"Sum periode 1-3",null,"Bemærkninger"]
[null,null,"Elforbrug","Besparelse","Elforbrug","Besparelse","Elforbrug","Besparelse","Elforbrug","Besparelse"]
[null,null,"kWh/år","kWh/år","kWh/år","kWh/år","kWh/år","kWh/år","kWh/år","kWh/år"]
[null,"Lyskilder",{"$f":"Lyskilder!F147","v":0},{"$f":"Lyskilder!G147","v":0},{"$f":"Lyskilder!J147","v":0},{"$f":"Lyskilder!K147","v":0},{"$f":"Lyskilder!N147","v":0},{"$f":"Lyskilder!O147","v":0},{"$f":"Lyskilder!P147","v":0},{"$f":"Lyskilder!Q147","v":0}]
[null,"Motorer",{"$f":"Motorer!G73","v":0},{"$f":"Motorer!H73","v":0},{"$f":"Motorer!K73","v":0},{"$f":"Motorer!L73","v":0},{"$f":"Motorer!O73","v":0},{"$f":"Motorer!P73","v":0},{"$f":"Motorer!Q73","v":0},{"$f":"Motorer!R73","v":0}]
[null,"Varme",{"$f":"Varme!F29","v":0},{"$f":"Varme!G29","v":0},{"$f":"Varme!J29","v":0},{"$f":"Varme!K29","v":0},{"$f":"Varme!N29","v":0},{"$f":"Varme!O29","v":0},{"$f":"Varme!P29","v":0},{"$f":"Varme!Q29","v":0}]
[null,"I alt",{"$f":"SUM(C31:C33)","v":0},0,0,0,0,0,0,0]
[]
[null,"Data til lagkage:","kWh/år","%"]
[null,"Lyskilder efter besparelsen",{"$f":"I31-J31","v":0},{"$f":"IF(C8=\"\",\"\",C37*100/$C$8)","v":""}]
[null,"Elbesparelse, lyskilder",{"$f":"J31","v":0},{"$f":"IF(C8=\"\",\"\",C38*100/$C$8)","v":""}]
[null,"Motorer efter besparelsen",{"$f":"I32-J32","v":0},{"$f":"IF(C8=\"\",\"\",C39*100/$C$8)","v":""}]
[null,"Elbesparelse, motorer",{"$f":"J32","v":0},{"$f":"IF(C8=\"\",\"\",C40*100/$C$8)","v":""}]
[null,"Varme efter besparelsen",{"$f":"I33-J33","v":0},{"$f":"IF(C8=\"\",\"\",C41*100/$C$8)","v":""}]
[null,"Elbesparelse, varme",{"$f":"J33","v":0},{"$f":"IF(C8=\"\",\"\",C42*100/$C$8)","v":""}]
[null,"Elforbrug, der ikke påvirkes",{"$f":"C8-SUM(C37:C42)","v":0},{"$f":"IF(C8=\"\",\"\",C43*100/$C$8)","v":""}]
[]
[]
[]
[]
[]
[]
[]
[]
[]
[]
[null,"Økonomi (levetidsomkostninger):"]
[]
[null,"Anlægsudgifter"]
[]
[null,"Anlægspris (Cic)","[Kr.]"]
[]
[null,"Levetid og energipris"]
[]
[null,"Anlæggets levetid","[år]"]
[]
[null,"Energipris","[Kr./kWh]"]
[]
[null,"Driftsudgifter"]
[]
[null,"Energiforbrug","[kWh/år]",{"$f":"SUM(C37,C39,C41,C43)","v":0}]
[null,"Energiomkostninger i alt i anlæggets "]
[null,"levetid [Ce]","[Kr.]",{"$f":"D68*D64*D62","v":0}]
[]
[null,"Service og vedligehold"]
[null,"Service- og vedligeholdelsesomkostninger "]
[null,"i anlæggets levetid [Cm]","[Kr.]"]
[]
[null,"LCC - Life Cycle Cost (levetidsomkostninger)"]
[]
[null,"LCC = Cic + Ce + Cm","[Kr.]",{"$f":"D58+D70+D74","v":0}]

{"sheet":"Lyskilder","index":2,"n_rows":147,"n_cols":18,"rows_kept":147,"cut":false,"hidden":false,"merged":[[129,1,129,17],[42,1,42,17],[53,1,53,17],[72,1,72,17],[89,1,89,17],[106,1,106,17],[3,1,3,9],[17,15,17,16],[7,1,7,4],[15,1,15,3],[5,1,6,4],[17,3,17,6],[17,7,17,10],[17,11,17,14],[8,1,8,4],[9,1,9,4],[10,1,10,4],[11,1,11,4]]}
[]
[null,"Data om lyskilder, hvis elforbrug er spændingsafhængigt"]
[]
[null,"Udstyrets spændingsafhængighed, opgjort som effektreduktion i %  ved 1% lavere spænding:"]
[]
[null,"Lyskilder",null,null,null,"Effektred. i %"]
[null,null,null,null,null,"v. 1% lavere sp."]
[null,"Lysstofrør, konv. forkobling",null,null,null,2]
[null,"Kompaktlysstofrør, konv. fork.",null,null,null,1.8]
[null,"Glødelamper og halogenlamper",null,null,null,1.5]
[null,"Natriumdamplamper, konv. forkobling",null,null,null,2]
[null,"Kviksølvdamplamper, konv. forkobling",null,null,null,2]
[null,"Metalhalogen",null,null,null,2]
[]
[]
[null,"Data for lyskilderne:"]
[]
[null,null,null,"Periode 1",null,null,null,"Periode 2",null,null,null,"Periode 3",null,null,null,"Sum periode 1-3",null,"Bemærkninger"]
[null,null,"Effekt","Antal","Driftstid","Elforbrug","Besparelse","Antal","Driftstid","Elforbrug","Besparelse","Antal","Driftstid","Elforbrug","Besparelse","Elforbrug","Besparelse"]
[null,null,"W","Stk.","h/år","kWh/år","kWh/år","Stk.","h/år","kWh/år","kWh/år","Stk.","h/år","kWh/år","kWh/år","kWh/år","kWh/år"]
[null,null,15,null,null,{"$f":"19*D21*E21*0.001","v":0},{"$f":"F21*$F$8*'Grunddata og resultat'!$E$16*0.01","v":0},null,null,{"$f":"19*H21*I21*0.001","v":0},{"$f":"J21*$F$8*'Grunddata og resultat'!$E$17*0.01","v":0},null,null,{"$f":"19*L21*M21*0.001","v":0},{"$f":"N21*$F$8*'Grunddata og resultat'!$E$18*0.01","v":0},{"$f":"F21+J21+N21","v":0},{"$f":"G21+K21+O21","v":0}]
[null,null,15,null,null,{"$f":"19*D22*E22*0.001","v":0},{"$f":"F22*$F$8*'Grunddata og resultat'!$E$16*0.01","v":0},null,null,{"$f":"19*H22*I22*0.001","v":0},{"$f":"J22*$F$8*'Grunddata og resultat'!$E$17*0.01","v":0},null,null,{"$f":"19*L22*M22*0.001","v":0},{"$f":"N22*$F$8*'Grunddata og resultat'!$E$18*0.01","v":0},0,0]
[null,null,15,null,null,{"$f":"19*D23*E23*0.001","v":0},{"$f":"F23*$F$8*'Grunddata og resultat'!$E$16*0.01","v":0},null,null,{"$f":"19*H23*I23*0.001","v":0},{"$f":"J23*$F$8*'Grunddata og resultat'!$E$17*0.01","v":0},null,null,{"$f":"19*L23*M23*0.001","v":0},{"$f":"N23*$F$8*'Grunddata og resultat'!$E$18*0.01","v":0},0,0]
[null,null,18,null,null,{"$f":"23*D24*E24*0.001","v":0},{"$f":"F24*$F$8*'Grunddata og resultat'!$E$16*0.01","v":0},null,null,{"$f":"23*H24*I24*0.001","v":0},{"$f":"J24*$F$8*'Grunddata og resultat'!$E$17*0.01","v":0},null,null,{"$f":"23*L24*M24*0.001","v":0},{"$f":"N24*$F$8*'Grunddata og resultat'!$E$18*0.01","v":0},{"$f":"F24+J24+N24","v":0},{"$f":"G24+K24+O24","v":0}]
[null,null,18,null,null,{"$f":"23*D25*E25*0.001","v":0},{"$f":"F25*$F$8*'Grunddata og resultat'!$E$16*0.01","v":0},null,null,{"$f":"23*H25*I25*0.001","v":0},{"$f":"J25*$F$8*'Grunddata og resultat'!$E$17*0.01","v":0},null,null,{"$f":"23*L25*M25*0.001","v":0},{"$f":"N25*$F$8*'Grunddata og resultat'!$E$18*0.01","v":0},0,0]
[null,null,18,null,null,{"$f":"23*D26*E26*0.001","v":0},{"$f":"F26*$F$8*'Grunddata og resultat'!$E$16*0.01","v":0},null,null,{"$f":"23*H26*I26*0.001","v":0},{"$f":"J26*$F$8*'Grunddata og resultat'!$E$17*0.01","v":0},null,null,{"$f":"23*L26*M26*0.001","v":0},{"$f":"N26*$F$8*'Grunddata og resultat'!$E$18*0.01","v":0},0,0]
[null,null,18,null,null,{"$f":"23*D27*E27*0.001","v":0},{"$f":"F27*$F$8*'Grunddata og resultat'!$E$16*0.01","v":0},null,null,{"$f":"23*H27*I27*0.001","v":0},{"$f":"J27*$F$8*'Grunddata og resultat'!$E$17*0.01","v":0},null,null,{"$f":"23*L27*M27*0.001","v":0},{"$f":"N27*$F$8*'Grunddata og resultat'!$E$18*0.01","v":0},0,0]
[null,null,18,null,null,{"$f":"23*D28*E28*0.001","v":0},{"$f":"F28*$F$8*'Grunddata og resultat'!$E$16*0.01","v":0},null,null,{"$f":"23*H28*I28*0.001","v":0},{"$f":"J28*$F$8*'Grunddata og resultat'!$E$17*0.01","v":0},null,null,{"$f":"23*L28*M28*0.001","v":0},{"$f":"N28*$F$8*'Grunddata og resultat'!$E$18*0.01","v":0},0,0]
[null,null,30,null,null,{"$f":"38*D29*E29*0.001","v":0},{"$f":"F29*$F$8*'Grunddata og resultat'!$E$16*0.01","v":0},null,null,{"$f":"38*H29*I29*0.001","v":0},{"$f":"J29*$F$8*'Grunddata og resultat'!$E$17*0.01","v":0},null,null,{"$f":"38*L29*M29*0.001","v":0},{"$f":"N29*$F$8*'Grunddata og resultat'!$E$18*0.01","v":0},{"$f":"F29+J29+N29","v":0},{"$f":"G29+K29+O29","v":0}]
[null,"Lysstofrør, ",30,null,null,{"$f":"38*D30*E30*0.001","v":0},{"$f":"F30*$F$8*'Grunddata og resultat'!$E$16*0.01","v":0},null,null,{"$f":"38*H30*I30*0.001","v":0},{"$f":"J30*$F$8*'Grunddata og resultat'!$E$17*0.01","v":0},null,null,{"$f":"38*L30*M30*0.001","v":0},{"$f":"N30*$F$8*'Grunddata og resultat'!$E$18*0.01","v":0},0,0]
[null,"konv. forkobling",30,null,null,{"$f":"38*D31*E31*0.001","v":0},{"$f":"F31*$F$8*'Grunddata og resultat'!$E$16*0.01","v":0},null,null,{"$f":"38*H31*I31*0.001","v":0},{"$f":"J31*$F$8*'Grunddata og resultat'!$E$17*0.01","v":0},null,null,{"$f":"38*L31*M31*0.001","v":0},{"$f":"N31*$F$8*'Grunddata og resultat'!$E$18*0.01","v":0},0,0]
[null,null,36,null,null,{"$f":"45*D32*E32*0.001","v":0},{"$f":"F32*$F$8*'Grunddata og resultat'!$E$16*0.01","v":0},null,null,{"$f":"45*H32*I32*0.001","v":0},{"$f":"J32*$F$8*'Grunddata og resultat'!$E$17*0.01","v":0},null,null,{"$f":"45*L32*M32*0.001","v":0},{"$f":"N32*$F$8*'Grunddata og resultat'!$E$18*0.01","v":0},0,0]
[null,null,36,null,null,{"$f":"45*D33*E33*0.001","v":0},{"$f":"F33*$F$8*'Grunddata og resultat'!$E$16*0.01","v":0},null,null,{"$f":"45*H33*I33*0.001","v":0},{"$f":"J33*$F$8*'Grunddata og resultat'!$E$17*0.01","v":0},null,null,{"$f":"45*L33*M33*0.001","v":0},{"$f":"N33*$F$8*'Grunddata og resultat'!$E$18*0.01","v":0},0,0]
[null,null,36,null,null,{"$f":"45*D34*E34*0.001","v":0},{"$f":"F34*$F$8*'Grunddata og resultat'!$E$16*0.01","v":0},null,null,{"$f":"45*H34*I34*0.001","v":0},{"$f":"J34*$F$8*'Grunddata og resultat'!$E$17*0.01","v":0},null,null,{"$f":"45*L34*M34*0.001","v":0},{"$f":"N34*$F$8*'Grunddata og resultat'!$E$18*0.01","v":0},0,0]
[null,null,36,null,null,{"$f":"45*D35*E35*0.001","v":0},{"$f":"F35*$F$8*'Grunddata og resultat'!$E$16*0.01","v":0},null,null,{"$f":"45*H35*I35*0.001","v":0},{"$f":"J35*$F$8*'Grunddata og resultat'!$E$17*0.01","v":0},null,null,{"$f":"45*L35*M35*0.001","v":0},{"$f":"N35*$F$8*'Grunddata og resultat'!$E$18*0.01","v":0},0,0]
[null,null,36,null,null,{"$f":"45*D36*E36*0.001","v":0},{"$f":"F36*$F$8*'Grunddata og resultat'!$E$16*0.01","v":0},null,null,{"$f":"45*H36*I36*0.001","v":0},{"$f":"J36*$F$8*'Grunddata og resultat'!$E$17*0.01","v":0},null,null,{"$f":"45*L36*M36*0.001","v":0},{"$f":"N36*$F$8*'Grunddata og resultat'!$E$18*0.01","v":0},0,0]
[null,null,58,null,null,{"$f":"72*D37*E37*0.001","v":0},{"$f":"F37*$F$8*'Grunddata og resultat'!$E$16*0.01","v":0},null,null,{"$f":"72*H37*I37*0.001","v":0},{"$f":"J37*$F$8*'Grunddata og resultat'!$E$17*0.01","v":0},null,null,{"$f":"72*L37*M37*0.001","v":0},{"$f":"N37*$F$8*'Grunddata og resultat'!$E$18*0.01","v":0},0,0]
[null,null,58,null,null,{"$f":"72*D38*E38*0.001","v":0},{"$f":"F38*$F$8*'Grunddata og resultat'!$E$16*0.01","v":0},null,null,{"$f":"72*H38*I38*0.001","v":0},{"$f":"J38*$F$8*'Grunddata og resultat'!$E$17*0.01","v":0},null,null,{"$f":"72*L38*M38*0.001","v":0},{"$f":"N38*$F$8*'Grunddata og resultat'!$E$18*0.01","v":0},0,0]
[null,null,58,null,null,{"$f":"72*D39*E39*0.001","v":0},{"$f":"F39*$F$8*'Grunddata og resultat'!$E$16*0.01","v":0},null,null,{"$f":"72*H39*I39*0.001","v":0},{"$f":"J39*$F$8*'Grunddata og resultat'!$E$17*0.01","v":0},null,null,{"$f":"72*L39*M39*0.001","v":0},{"$f":"N39*$F$8*'Grunddata og resultat'!$E$18*0.01","v":0},0,0]
[null,null,58,null,null,{"$f":"72*D40*E40*0.001","v":0},{"$f":"F40*$F$8*'Grunddata og resultat'!$E$16*0.01","v":0},null,null,{"$f":"72*H40*I40*0.001","v":0},{"$f":"J40*$F$8*'Grunddata og resultat'!$E$17*0.01","v":0},null,null,{"$f":"72*L40*M40*0.001","v":0},{"$f":"N40*$F$8*'Grunddata og resultat'!$E$18*0.01","v":0},0,0]
[null,null,58,null,null,{"$f":"72*D41*E41*0.001","v":0},{"$f":"F41*$F$8*'Grunddata og resultat'!$E$16*0.01","v":0},null,null,{"$f":"72*H41*I41*0.001","v":0},{"$f":"J41*$F$8*'Grunddata og resultat'!$E$17*0.01","v":0},null,null,{"$f":"72*L41*M41*0.001","v":0},{"$f":"N41*$F$8*'Grunddata og resultat'!$E$18*0.01","v":0},0,0]
[null,null,"Sum",{"$f":"SUM(D21:D41)","v":0},null,{"$f":"SUM(F21:F41)","v":0},{"$f":"SUM(G21:G41)","v":0},{"$f":"SUM(H21:H41)","v":0},null,{"$f":"SUM(J21:J41)","v":0},{"$f":"SUM(K21:K41)","v":0},{"$f":"SUM(L21:L41)","v":0},null,{"$f":"SUM(N21:N41)","v":0},{"$f":"SUM(O21:O41)","v":0},0,0]
[]
[null,null,9,null,null,{"$f":"13*D44*E44*0.001","v":0},{"$f":"F44*$F$9*'Grunddata og resultat'!$E$16*0.01","v":0},null,null,{"$f":"13*H44*I44*0.001","v":0},{"$f":"J44*$F$9*'Grunddata og resultat'!$E$17*0.01","v":0},null,null,{"$f":"13*L44*M44*0.001","v":0},{"$f":"N44*$F$9*'Grunddata og resultat'!$E$18*0.01","v":0},{"$f":"F44+J44+N44","v":0},{"$f":"G44+K44+O44","v":0}]
[null,null,9,null,null,{"$f":"13*D45*E45*0.001","v":0},{"$f":"F45*$F$9*'Grunddata og resultat'!$E$16*0.01","v":0},null,null,{"$f":"13*H45*I45*0.001","v":0},{"$f":"J45*$F$9*'Grunddata og resultat'!$E$17*0.01","v":0},null,null,{"$f":"13*L45*M45*0.001","v":0},{"$f":"N45*$F$9*'Grunddata og resultat'!$E$18*0.01","v":0},0,0,"Drift om natten"]
[null,null,9,null,null,{"$f":"13*D46*E46*0.001","v":0},{"$f":"F46*$F$9*'Grunddata og resultat'!$E$16*0.01","v":0},null,null,{"$f":"13*H46*I46*0.001","v":0},{"$f":"J46*$F$9*'Grunddata og resultat'!$E$17*0.01","v":0},null,null,{"$f":"13*L46*M46*0.001","v":0},{"$f":"N46*$F$9*'Grunddata og resultat'!$E$18*0.01","v":0},0,0]
[null,"Kompaktlystofrør,",11,null,null,{"$f":"15*D47*E47*0.001","v":0},{"$f":"F47*$F$9*'Grunddata og resultat'!$E$16*0.01","v":0},null,null,{"$f":"15*H47*I47*0.001","v":0},{"$f":"J47*$F$9*'Grunddata og resultat'!$E$17*0.01","v":0},null,null,{"$f":"15*L47*M47*0.001","v":0},{"$f":"N47*$F$9*'Grunddata og resultat'!$E$18*0.01","v":0},0,0]
[null,"konv. forkobling",11,null,null,0,{"$f":"F48*$F$9*'Grunddata og resultat'!$E$16*0.01","v":0},null,null,0,{"$f":"J48*$F$9*'Grunddata og resultat'!$E$17*0.01","v":0},null,null,0,{"$f":"N48*$F$9*'Grunddata og resultat'!$E$18*0.01","v":0},0,0]
[null,null,11,null,null,0,{"$f":"F49*$F$9*'Grunddata og resultat'!$E$16*0.01","v":0},null,null,0,{"$f":"J49*$F$9*'Grunddata og resultat'!$E$17*0.01","v":0},null,null,0,{"$f":"N49*$F$9*'Grunddata og resultat'!$E$18*0.01","v":0},0,0]
[null,null,26,null,null,{"$f":"32*D50*E50*0.001","v":0},{"$f":"F50*$F$9*'Grunddata og resultat'!$E$16*0.01","v":0},null,null,{"$f":"32*H50*I50*0.001","v":0},{"$f":"J50*$F$9*'Grunddata og resultat'!$E$17*0.01","v":0},null,null,{"$f":"32*L50*M50*0.001","v":0},{"$f":"N50*$F$9*'Grunddata og resultat'!$E$18*0.01","v":0},0,0]
[null,null,26,null,null,{"$f":"32*D51*E51*0.001","v":0},{"$f":"F51*$F$9*'Grunddata og resultat'!$E$16*0.01","v":0},null,null,{"$f":"32*H51*I51*0.001","v":0},{"$f":"J51*$F$9*'Grunddata og resultat'!$E$17*0.01","v":0},null,null,{"$f":"32*L51*M51*0.001","v":0},{"$f":"N51*$F$9*'Grunddata og resultat'!$E$18*0.01","v":0},0,0]
[null,null,26,null,null,{"$f":"32*D52*E52*0.001","v":0},{"$f":"F52*$F$9*'Grunddata og resultat'!$E$16*0.01","v":0},null,null,{"$f":"32*H52*I52*0.001","v":0},{"$f":"J52*$F$9*'Grunddata og resultat'!$E$17*0.01","v":0},null,null,{"$f":"32*L52*M52*0.001","v":0},{"$f":"N52*$F$9*'Grunddata og resultat'!$E$18*0.01","v":0},0,0]
[null,null,"Sum",{"$f":"SUM(D44:D52)","v":0},null,{"$f":"SUM(F44:F52)","v":0},{"$f":"SUM(G44:G52)","v":0},{"$f":"SUM(H44:H52)","v":0},null,{"$f":"SUM(J44:J52)","v":0},{"$f":"SUM(K44:K52)","v":0},{"$f":"SUM(L44:L52)","v":0},null,{"$f":"SUM(N44:N52)","v":0},{"$f":"SUM(O44:O52)","v":0},0,0]
[]
[null,null,25,null,null,{"$f":"C55*D55*E55*0.001","v":0},{"$f":"F55*$F$10*'Grunddata og resultat'!$E$16*0.01","v":0},null,null,{"$f":"C55*H55*I55*0.001","v":0},{"$f":"J55*$F$10*'Grunddata og resultat'!$E$17*0.01","v":0},null,null,{"$f":"C55*L55*M55*0.001","v":0},{"$f":"N55*$F$10*'Grunddata og resultat'!$E$18*0.01","v":0},0,0]
[null,null,25,null,null,0,{"$f":"F56*$F$10*'Grunddata og resultat'!$E$16*0.01","v":0},null,null,0,{"$f":"J56*$F$10*'Grunddata og resultat'!$E$17*0.01","v":0},null,null,0,{"$f":"N56*$F$10*'Grunddata og resultat'!$E$18*0.01","v":0},0,0]
[null,null,25,null,null,0,{"$f":"F57*$F$10*'Grunddata og resultat'!$E$16*0.01","v":0},null,null,0,{"$f":"J57*$F$10*'Grunddata og resultat'!$E$17*0.01","v":0},null,null,0,{"$f":"N57*$F$10*'Grunddata og resultat'!$E$18*0.01","v":0},0,0]
[null,null,40,null,null,0,{"$f":"F58*$F$10*'Grunddata og resultat'!$E$16*0.01","v":0},null,null,0,{"$f":"J58*$F$10*'Grunddata og resultat'!$E$17*0.01","v":0},null,null,0,{"$f":"N58*$F$10*'Grunddata og resultat'!$E$18*0.01","v":0},0,0]
[null,null,40,null,null,0,{"$f":"F59*$F$10*'Grunddata og resultat'!$E$16*0.01","v":0},null,null,0,{"$f":"J59*$F$10*'Grunddata og resultat'!$E$17*0.01","v":0},null,null,0,{"$f":"N59*$F$10*'Grunddata og resultat'!$E$18*0.01","v":0},0,0]
[null,null,40,null,null,0,{"$f":"F60*$F$10*'Grunddata og resultat'!$E$16*0.01","v":0},null,null,0,{"$f":"J60*$F$10*'Grunddata og resultat'!$E$17*0.01","v":0},null,null,0,{"$f":"N60*$F$10*'Grunddata og resultat'!$E$18*0.01","v":0},0,0]
[null,null,60,null,null,0,{"$f":"F61*$F$10*'Grunddata og resultat'!$E$16*0.01","v":0},null,null,0,{"$f":"J61*$F$10*'Grunddata og resultat'!$E$17*0.01","v":0},null,null,0,{"$f":"N61*$F$10*'Grunddata og resultat'!$E$18*0.01","v":0},0,0]
[null,"Glødelamper",60,null,null,0,{"$f":"F62*$F$10*'Grunddata og resultat'!$E$16*0.01","v":0},null,null,0,{"$f":"J62*$F$10*'Grunddata og resultat'!$E$17*0.01","v":0},null,null,0,{"$f":"N62*$F$10*'Grunddata og resultat'!$E$18*0.01","v":0},0,0]
[null,null,60,null,null,0,{"$f":"F63*$F$10*'Grunddata og resultat'!$E$16*0.01","v":0},null,null,0,{"$f":"J63*$F$10*'Grunddata og resultat'!$E$17*0.01","v":0},null,null,0,{"$f":"N63*$F$10*'Grunddata og resultat'!$E$18*0.01","v":0},0,0]
[null,null,75,null,null,0,{"$f":"F64*$F$10*'Grunddata og resultat'!$E$16*0.01","v":0},null,null,0,{"$f":"J64*$F$10*'Grunddata og resultat'!$E$17*0.01","v":0},null,null,0,{"$f":"N64*$F$10*'Grunddata og resultat'!$E$18*0.01","v":0},0,0]
[null,null,75,null,null,0,{"$f":"F65*$F$10*'Grunddata og resultat'!$E$16*0.01","v":0},null,null,0,{"$f":"J65*$F$10*'Grunddata og resultat'!$E$17*0.01","v":0},null,null,0,{"$f":"N65*$F$10*'Grunddata og resultat'!$E$18*0.01","v":0},0,0]
[null,null,75,null,null,0,{"$f":"F66*$F$10*'Grunddata og resultat'!$E$16*0.01","v":0},null,null,0,{"$f":"J66*$F$10*'Grunddata og resultat'!$E$17*0.01","v":0},null,null,0,{"$f":"N66*$F$10*'Grunddata og resultat'!$E$18*0.01","v":0},0,0]
[null,null,100,null,null,0,{"$f":"F67*$F$10*'Grunddata og resultat'!$E$16*0.01","v":0},null,null,0,{"$f":"J67*$F$10*'Grunddata og resultat'!$E$17*0.01","v":0},null,null,0,{"$f":"N67*$F$10*'Grunddata og resultat'!$E$18*0.01","v":0},0,0]
[null,null,100,null,null,0,{"$f":"F68*$F$10*'Grunddata og resultat'!$E$16*0.01","v":0},null,null,0,{"$f":"J68*$F$10*'Grunddata og resultat'!$E$17*0.01","v":0},null,null,0,{"$f":"N68*$F$10*'Grunddata og resultat'!$E$18*0.01","v":0},0,0]
[null,null,100,null,null,0,{"$f":"F69*$F$10*'Grunddata og resultat'!$E$16*0.01","v":0},null,null,0,{"$f":"J69*$F$10*'Grunddata og resultat'!$E$17*0.01","v":0},null,null,0,{"$f":"N69*$F$10*'Grunddata og resultat'!$E$18*0.01","v":0},0,0]
[null,null,null,null,null,0,{"$f":"F70*$F$10*'Grunddata og resultat'!$E$16*0.01","v":0},null,null,0,{"$f":"J70*$F$10*'Grunddata og resultat'!$E$17*0.01","v":0},null,null,0,{"$f":"N70*$F$10*'Grunddata og resultat'!$E$18*0.01","v":0},0,0]
[null,null,null,null,null,0,{"$f":"F71*$F$10*'Grunddata og resultat'!$E$16*0.01","v":0},null,null,0,{"$f":"J71*$F$10*'Grunddata og resultat'!$E$17*0.01","v":0},null,null,0,{"$f":"N71*$F$10*'Grunddata og resultat'!$E$18*0.01","v":0},0,0]
[null,null,"Sum",{"$f":"SUM(D55:D71)","v":0},null,{"$f":"SUM(F55:F71)","v":0},{"$f":"SUM(G55:G71)","v":0},{"$f":"SUM(H55:H71)","v":0},null,{"$f":"SUM(J55:J71)","v":0},{"$f":"SUM(K55:K71)","v":0},{"$f":"SUM(L55:L71)","v":0},null,{"$f":"SUM(N55:N71)","v":0},{"$f":"SUM(O55:O71)","v":0},0,0]
[]
[null,null,10,null,null,{"$f":"14*D74*E74*0.001","v":0},{"$f":"F74*$F$10*'Grunddata og resultat'!$E$16*0.01","v":0},null,null,{"$f":"14*H74*I74*0.001","v":0},{"$f":"J74*$F$10*'Grunddata og resultat'!$E$17*0.01","v":0},null,null,{"$f":"14*L74*M74*0.001","v":0},{"$f":"N74*$F$10*'Grunddata og resultat'!$E$18*0.01","v":0},0,0]
[null,null,10,null,null,{"$f":"14*D75*E75*0.001","v":0},{"$f":"F75*$F$10*'Grunddata og resultat'!$E$16*0.01","v":0},null,null,{"$f":"14*H75*I75*0.001","v":0},{"$f":"J75*$F$10*'Grunddata og resultat'!$E$17*0.01","v":0},null,null,{"$f":"14*L75*M75*0.001","v":0},{"$f":"N75*$F$10*'Grunddata og resultat'!$E$18*0.01","v":0},0,0]
[null,null,10,null,null,{"$f":"14*D76*E76*0.001","v":0},{"$f":"F76*$F$10*'Grunddata og resultat'!$E$16*0.01","v":0},null,null,{"$f":"14*H76*I76*0.001","v":0},{"$f":"J76*$F$10*'Grunddata og resultat'!$E$17*0.01","v":0},null,null,{"$f":"14*L76*M76*0.001","v":0},{"$f":"N76*$F$10*'Grunddata og resultat'!$E$18*0.01","v":0},0,0]
[null,null,20,null,null,{"$f":"23*D77*E77*0.001","v":0},{"$f":"F77*$F$10*'Grunddata og resultat'!$E$16*0.01","v":0},null,null,{"$f":"23*H77*I77*0.001","v":0},{"$f":"J77*$F$10*'Grunddata og resultat'!$E$17*0.01","v":0},null,null,{"$f":"23*L77*M77*0.001","v":0},{"$f":"N77*$F$10*'Grunddata og resultat'!$E$18*0.01","v":0},0,0]
[null,null,20,null,null,{"$f":"23*D78*E78*0.001","v":0},{"$f":"F78*$F$10*'Grunddata og resultat'!$E$16*0.01","v":0},null,null,{"$f":"23*H78*I78*0.001","v":0},{"$f":"J78*$F$10*'Grunddata og resultat'!$E$17*0.01","v":0},null,null,{"$f":"23*L78*M78*0.001","v":0},{"$f":"N78*$F$10*'Grunddata og resultat'!$E$18*0.01","v":0},0,0]
[null,null,20,null,null,{"$f":"23*D79*E79*0.001","v":0},{"$f":"F79*$F$10*'Grunddata og resultat'!$E$16*0.01","v":0},null,null,{"$f":"23*H79*I79*0.001","v":0},{"$f":"J79*$F$10*'Grunddata og resultat'!$E$17*0.01","v":0},null,null,{"$f":"23*L79*M79*0.001","v":0},{"$f":"N79*$F$10*'Grunddata og resultat'!$E$18*0.01","v":0},0,0]
[null,null,30,null,null,{"$f":"35*D80*E80*0.001","v":0},{"$f":"F80*$F$10*'Grunddata og resultat'!$E$16*0.01","v":0},null,null,{"$f":"35*H80*I80*0.001","v":0},{"$f":"J80*$F$10*'Grunddata og resultat'!$E$17*0.01","v":0},null,null,{"$f":"35*L80*M80*0.001","v":0},{"$f":"N80*$F$10*'Grunddata og resultat'!$E$18*0.01","v":0},0,0]
[null,"Halogenlamper",30,null,null,{"$f":"35*D81*E81*0.001","v":0},{"$f":"F81*$F$10*'Grunddata og resultat'!$E$16*0.01","v":0},null,null,{"$f":"35*H81*I81*0.001","v":0},{"$f":"J81*$F$10*'Grunddata og resultat'!$E$17*0.01","v":0},null,null,{"$f":"35*L81*M81*0.001","v":0},{"$f":"N81*$F$10*'Grunddata og resultat'!$E$18*0.01","v":0},0,0]
[null,null,30,null,null,{"$f":"35*D82*E82*0.001","v":0},{"$f":"F82*$F$10*'Grunddata og resultat'!$E$16*0.01","v":0},null,null,{"$f":"35*H82*I82*0.001","v":0},{"$f":"J82*$F$10*'Grunddata og resultat'!$E$17*0.01","v":0},null,null,{"$f":"35*L82*M82*0.001","v":0},{"$f":"N82*$F$10*'Grunddata og resultat'!$E$18*0.01","v":0},0,0]
[null,null,35,null,null,{"$f":"40*D83*E83*0.001","v":0},{"$f":"F83*$F$10*'Grunddata og resultat'!$E$16*0.01","v":0},null,null,{"$f":"40*H83*I83*0.001","v":0},{"$f":"J83*$F$10*'Grunddata og resultat'!$E$17*0.01","v":0},null,null,{"$f":"40*L83*M83*0.001","v":0},{"$f":"N83*$F$10*'Grunddata og resultat'!$E$18*0.01","v":0},0,0]
[null,null,35,null,null,{"$f":"40*D84*E84*0.001","v":0},{"$f":"F84*$F$10*'Grunddata og resultat'!$E$16*0.01","v":0},null,null,{"$f":"40*H84*I84*0.001","v":0},{"$f":"J84*$F$10*'Grunddata og resultat'!$E$17*0.01","v":0},null,null,{"$f":"40*L84*M84*0.001","v":0},{"$f":"N84*$F$10*'Grunddata og resultat'!$E$18*0.01","v":0},0,0]
[null,null,35,null,null,{"$f":"40*D85*E85*0.001","v":0},{"$f":"F85*$F$10*'Grunddata og resultat'!$E$16*0.01","v":0},null,null,{"$f":"40*H85*I85*0.001","v":0},{"$f":"J85*$F$10*'Grunddata og resultat'!$E$17*0.01","v":0},null,null,{"$f":"40*L85*M85*0.001","v":0},{"$f":"N85*$F$10*'Grunddata og resultat'!$E$18*0.01","v":0},0,0]
[null,null,50,null,null,{"$f":"58*D86*E86*0.001","v":0},{"$f":"F86*$F$10*'Grunddata og resultat'!$E$16*0.01","v":0},null,null,{"$f":"58*H86*I86*0.001","v":0},{"$f":"J86*$F$10*'Grunddata og resultat'!$E$17*0.01","v":0},null,null,{"$f":"58*L86*M86*0.001","v":0},{"$f":"N86*$F$10*'Grunddata og resultat'!$E$18*0.01","v":0},0,0]
[null,null,50,null,null,{"$f":"58*D87*E87*0.001","v":0},{"$f":"F87*$F$10*'Grunddata og resultat'!$E$16*0.01","v":0},null,null,{"$f":"58*H87*I87*0.001","v":0},{"$f":"J87*$F$10*'Grunddata og resultat'!$E$17*0.01","v":0},null,null,{"$f":"58*L87*M87*0.001","v":0},{"$f":"N87*$F$10*'Grunddata og resultat'!$E$18*0.01","v":0},0,0]
[null,null,50,null,null,{"$f":"58*D88*E88*0.001","v":0},{"$f":"F88*$F$10*'Grunddata og resultat'!$E$16*0.01","v":0},null,null,{"$f":"58*H88*I88*0.001","v":0},{"$f":"J88*$F$10*'Grunddata og resultat'!$E$17*0.01","v":0},null,null,{"$f":"58*L88*M88*0.001","v":0},{"$f":"N88*$F$10*'Grunddata og resultat'!$E$18*0.01","v":0},0,0]
[null,null,"Sum",{"$f":"SUM(D74:D88)","v":0},null,{"$f":"SUM(F74:F88)","v":0},{"$f":"SUM(G74:G88)","v":0},{"$f":"SUM(H74:H88)","v":0},null,{"$f":"SUM(J74:J88)","v":0},{"$f":"SUM(K74:K88)","v":0},{"$f":"SUM(L74:L88)","v":0},null,{"$f":"SUM(N74:N88)","v":0},{"$f":"SUM(O74:O88)","v":0},0,0]
[]
[null,null,70,null,null,{"$f":"1.17*C91*D91*E91*0.001","v":0},{"$f":"F91*$F$11*'Grunddata og resultat'!$E$16*0.01","v":0},null,null,{"$f":"1.17*C91*H91*I91*0.001","v":0},{"$f":"I91*$F$11*'Grunddata og resultat'!$E$17*0.01","v":0},null,null,{"$f":"1.17*C91*L91*M91*0.001","v":0},{"$f":"I91*$F$11*'Grunddata og resultat'!$E$18*0.01","v":0},0,0]
[null,null,70,null,null,{"$f":"1.17*C92*D92*E92*0.001","v":0},{"$f":"F92*$F$11*'Grunddata og resultat'!$E$16*0.01","v":0},null,null,{"$f":"1.17*C92*H92*I92*0.001","v":0},{"$f":"I92*$F$11*'Grunddata og resultat'!$E$17*0.01","v":0},null,null,{"$f":"1.17*C92*L92*M92*0.001","v":0},{"$f":"I92*$F$11*'Grunddata og resultat'!$E$18*0.01","v":0},{"$f":"F92+J92+N92","v":0},{"$f":"G92+K92+O92","v":0}]
[null,null,70,null,null,0,{"$f":"F93*$F$11*'Grunddata og resultat'!$E$16*0.01","v":0},null,null,0,{"$f":"I93*$F$11*'Grunddata og resultat'!$E$17*0.01","v":0},null,null,0,{"$f":"I93*$F$11*'Grunddata og resultat'!$E$18*0.01","v":0},0,0]
[null,null,150,null,null,0,{"$f":"F94*$F$11*'Grunddata og resultat'!$E$16*0.01","v":0},null,null,0,{"$f":"I94*$F$11*'Grunddata og resultat'!$E$17*0.01","v":0},null,null,0,{"$f":"I94*$F$11*'Grunddata og resultat'!$E$18*0.01","v":0},0,0]
[null,null,150,null,null,0,{"$f":"F95*$F$11*'Grunddata og resultat'!$E$16*0.01","v":0},null,null,0,{"$f":"I95*$F$11*'Grunddata og resultat'!$E$17*0.01","v":0},null,null,0,{"$f":"I95*$F$11*'Grunddata og resultat'!$E$18*0.01","v":0},0,0]
[null,null,150,null,null,0,{"$f":"F96*$F$11*'Grunddata og resultat'!$E$16*0.01","v":0},null,null,0,{"$f":"I96*$F$11*'Grunddata og resultat'!$E$17*0.01","v":0},null,null,0,{"$f":"I96*$F$11*'Grunddata og resultat'!$E$18*0.01","v":0},0,0]
[null,"Højtryksnatrium-",250,null,null,0,{"$f":"F97*$F$11*'Grunddata og resultat'!$E$16*0.01","v":0},null,null,0,{"$f":"I97*$F$11*'Grunddata og resultat'!$E$17*0.01","v":0},null,null,0,{"$f":"I97*$F$11*'Grunddata og resultat'!$E$18*0.01","v":0},0,0]
[null,"damplamper",250,null,null,0,{"$f":"F98*$F$11*'Grunddata og resultat'!$E$16*0.01","v":0},null,null,0,{"$f":"I98*$F$11*'Grunddata og resultat'!$E$17*0.01","v":0},null,null,0,{"$f":"I98*$F$11*'Grunddata og resultat'!$E$18*0.01","v":0},0,0]
[null,null,250,null,null,0,{"$f":"F99*$F$11*'Grunddata og resultat'!$E$16*0.01","v":0},null,null,0,{"$f":"I99*$F$11*'Grunddata og resultat'!$E$17*0.01","v":0},null,null,0,{"$f":"I99*$F$11*'Grunddata og resultat'!$E$18*0.01","v":0},0,0]
[null,null,400,null,null,0,{"$f":"F100*$F$11*'Grunddata og resultat'!$E$16*0.01","v":0},null,null,0,{"$f":"I100*$F$11*'Grunddata og resultat'!$E$17*0.01","v":0},null,null,0,{"$f":"I100*$F$11*'Grunddata og resultat'!$E$18*0.01","v":0},0,0]
[null,null,400,null,null,0,{"$f":"F101*$F$11*'Grunddata og resultat'!$E$16*0.01","v":0},null,null,0,{"$f":"I101*$F$11*'Grunddata og resultat'!$E$17*0.01","v":0},null,null,0,{"$f":"I101*$F$11*'Grunddata og resultat'!$E$18*0.01","v":0},0,0]
[null,null,400,null,null,0,{"$f":"F102*$F$11*'Grunddata og resultat'!$E$16*0.01","v":0},null,null,0,{"$f":"I102*$F$11*'Grunddata og resultat'!$E$17*0.01","v":0},null,null,0,{"$f":"I102*$F$11*'Grunddata og resultat'!$E$18*0.01","v":0},0,0]
[null,null,1000,null,null,0,{"$f":"F103*$F$11*'Grunddata og resultat'!$E$16*0.01","v":0},null,null,0,{"$f":"I103*$F$11*'Grunddata og resultat'!$E$17*0.01","v":0},null,null,0,{"$f":"I103*$F$11*'Grunddata og resultat'!$E$18*0.01","v":0},0,0]
[null,null,1000,null,null,0,{"$f":"F104*$F$11*'Grunddata og resultat'!$E$16*0.01","v":0},null,null,0,{"$f":"I104*$F$11*'Grunddata og resultat'!$E$17*0.01","v":0},null,null,0,{"$f":"I104*$F$11*'Grunddata og resultat'!$E$18*0.01","v":0},0,0]
[null,null,1000,null,null,0,{"$f":"F105*$F$11*'Grunddata og resultat'!$E$16*0.01","v":0},null,null,0,{"$f":"I105*$F$11*'Grunddata og resultat'!$E$17*0.01","v":0},null,null,0,{"$f":"I105*$F$11*'Grunddata og resultat'!$E$18*0.01","v":0},0,0]
[null,null,"Sum",{"$f":"SUM(D91:D105)","v":0},null,{"$f":"SUM(F91:F105)","v":0},{"$f":"SUM(G91:G105)","v":0},{"$f":"SUM(H91:H105)","v":0},null,{"$f":"SUM(J91:J105)","v":0},{"$f":"SUM(K91:K105)","v":0},{"$f":"SUM(L91:L105)","v":0},null,{"$f":"SUM(N91:N105)","v":0},{"$f":"SUM(O91:O105)","v":0},{"$f":"SUM(P91:P105)","v":0},{"$f":"SUM(Q91:Q105)","v":0}]
[]
[null,null,50,null,null,{"$f":"1.19*C108*D108*E108*0.001","v":0},{"$f":"F108*$F$12*'Grunddata og resultat'!$E$16*0.01","v":0},null,null,{"$f":"1.19*C108*H108*I108*0.001","v":0},{"$f":"J108*$F$12*'Grunddata og resultat'!$E$17*0.01","v":0},null,null,{"$f":"1.19*C108*L108*M108*0.001","v":0},{"$f":"N108*$F$12*'Grunddata og resultat'!$E$18*0.01","v":0},{"$f":"F108+J108+N108","v":0},{"$f":"G108+K108+O108","v":0}]
[null,null,50,null,null,{"$f":"1.19*C109*D109*E109*0.001","v":0},{"$f":"F109*$F$12*'Grunddata og resultat'!$E$16*0.01","v":0},null,null,{"$f":"1.19*C109*H109*I109*0.001","v":0},{"$f":"J109*$F$12*'Grunddata og resultat'!$E$17*0.01","v":0},null,null,{"$f":"1.19*C109*L109*M109*0.001","v":0},{"$f":"N109*$F$12*'Grunddata og resultat'!$E$18*0.01","v":0},{"$f":"F109+J109+N109","v":0},{"$f":"G109+K109+O109","v":0}]
[null,null,50,null,null,0,{"$f":"F110*$F$12*'Grunddata og resultat'!$E$16*0.01","v":0},null,null,0,{"$f":"J110*$F$12*'Grunddata og resultat'!$E$17*0.01","v":0},null,null,0,{"$f":"N110*$F$12*'Grunddata og resultat'!$E$18*0.01","v":0},0,0]
[null,null,80,null,null,0,{"$f":"F111*$F$12*'Grunddata og resultat'!$E$16*0.01","v":0},null,null,0,{"$f":"J111*$F$12*'Grunddata og resultat'!$E$17*0.01","v":0},null,null,0,{"$f":"N111*$F$12*'Grunddata og resultat'!$E$18*0.01","v":0},0,0]
[null,null,80,null,null,0,{"$f":"F112*$F$12*'Grunddata og resultat'!$E$16*0.01","v":0},null,null,0,{"$f":"J112*$F$12*'Grunddata og resultat'!$E$17*0.01","v":0},null,null,0,{"$f":"N112*$F$12*'Grunddata og resultat'!$E$18*0.01","v":0},0,0]
[null,null,80,null,null,0,{"$f":"F113*$F$12*'Grunddata og resultat'!$E$16*0.01","v":0},null,null,0,{"$f":"J113*$F$12*'Grunddata og resultat'!$E$17*0.01","v":0},null,null,0,{"$f":"N113*$F$12*'Grunddata og resultat'!$E$18*0.01","v":0},0,0]
[null,null,125,null,null,0,{"$f":"F114*$F$12*'Grunddata og resultat'!$E$16*0.01","v":0},null,null,0,{"$f":"J114*$F$12*'Grunddata og resultat'!$E$17*0.01","v":0},null,null,0,{"$f":"N114*$F$12*'Grunddata og resultat'!$E$18*0.01","v":0},0,0]
[null,null,125,null,null,0,{"$f":"F115*$F$12*'Grunddata og resultat'!$E$16*0.01","v":0},null,null,0,{"$f":"J115*$F$12*'Grunddata og resultat'!$E$17*0.01","v":0},null,null,0,{"$f":"N115*$F$12*'Grunddata og resultat'!$E$18*0.01","v":0},0,0]
[null,"Kviksølvdamp-",125,null,null,0,{"$f":"F116*$F$12*'Grunddata og resultat'!$E$16*0.01","v":0},null,null,0,{"$f":"J116*$F$12*'Grunddata og resultat'!$E$17*0.01","v":0},null,null,0,{"$f":"N116*$F$12*'Grunddata og resultat'!$E$18*0.01","v":0},0,0]
[null,"lamper",250,null,null,0,{"$f":"F117*$F$12*'Grunddata og resultat'!$E$16*0.01","v":0},null,null,0,{"$f":"J117*$F$12*'Grunddata og resultat'!$E$17*0.01","v":0},null,null,0,{"$f":"N117*$F$12*'Grunddata og resultat'!$E$18*0.01","v":0},0,0]
[null,null,250,null,null,0,{"$f":"F118*$F$12*'Grunddata og resultat'!$E$16*0.01","v":0},null,null,0,{"$f":"J118*$F$12*'Grunddata og resultat'!$E$17*0.01","v":0},null,null,0,{"$f":"N118*$F$12*'Grunddata og resultat'!$E$18*0.01","v":0},0,0]
[null,null,250,null,null,0,{"$f":"F119*$F$12*'Grunddata og resultat'!$E$16*0.01","v":0},null,null,0,{"$f":"J119*$F$12*'Grunddata og resultat'!$E$17*0.01","v":0},null,null,0,{"$f":"N119*$F$12*'Grunddata og resultat'!$E$18*0.01","v":0},0,0]
[null,null,400,null,null,0,{"$f":"F120*$F$12*'Grunddata og resultat'!$E$16*0.01","v":0},null,null,0,{"$f":"J120*$F$12*'Grunddata og resultat'!$E$17*0.01","v":0},null,null,0,{"$f":"N120*$F$12*'Grunddata og resultat'!$E$18*0.01","v":0},0,0]
[null,null,400,null,null,0,{"$f":"F121*$F$12*'Grunddata og resultat'!$E$16*0.01","v":0},null,null,0,{"$f":"J121*$F$12*'Grunddata og resultat'!$E$17*0.01","v":0},null,null,0,{"$f":"N121*$F$12*'Grunddata og resultat'!$E$18*0.01","v":0},0,0]
[null,null,400,null,null,0,{"$f":"F122*$F$12*'Grunddata og resultat'!$E$16*0.01","v":0},null,null,0,{"$f":"J122*$F$12*'Grunddata og resultat'!$E$17*0.01","v":0},null,null,0,{"$f":"N122*$F$12*'Grunddata og resultat'!$E$18*0.01","v":0},0,0]
[null,null,700,null,null,0,{"$f":"F123*$F$12*'Grunddata og resultat'!$E$16*0.01","v":0},null,null,0,{"$f":"J123*$F$12*'Grunddata og resultat'!$E$17*0.01","v":0},null,null,0,{"$f":"N123*$F$12*'Grunddata og resultat'!$E$18*0.01","v":0},0,0]
[null,null,700,null,null,0,{"$f":"F124*$F$12*'Grunddata og resultat'!$E$16*0.01","v":0},null,null,0,{"$f":"J124*$F$12*'Grunddata og resultat'!$E$17*0.01","v":0},null,null,0,{"$f":"N124*$F$12*'Grunddata og resultat'!$E$18*0.01","v":0},0,0]
[null,null,700,null,null,0,{"$f":"F125*$F$12*'Grunddata og resultat'!$E$16*0.01","v":0},null,null,0,{"$f":"J125*$F$12*'Grunddata og resultat'!$E$17*0.01","v":0},null,null,0,{"$f":"N125*$F$12*'Grunddata og resultat'!$E$18*0.01","v":0},0,0]
[null,null,1000,null,null,0,{"$f":"F126*$F$12*'Grunddata og resultat'!$E$16*0.01","v":0},null,null,0,{"$f":"J126*$F$12*'Grunddata og resultat'!$E$17*0.01","v":0},null,null,0,{"$f":"N126*$F$12*'Grunddata og resultat'!$E$18*0.01","v":0},0,0]
[null,null,1000,null,null,0,{"$f":"F127*$F$12*'Grunddata og resultat'!$E$16*0.01","v":0},null,null,0,{"$f":"J127*$F$12*'Grunddata og resultat'!$E$17*0.01","v":0},null,null,0,{"$f":"N127*$F$12*'Grunddata og resultat'!$E$18*0.01","v":0},0,0]
[null,null,1000,null,null,0,{"$f":"F128*$F$12*'Grunddata og resultat'!$E$16*0.01","v":0},null,null,0,{"$f":"J128*$F$12*'Grunddata og resultat'!$E$17*0.01","v":0},null,null,0,{"$f":"N128*$F$12*'Grunddata og resultat'!$E$18*0.01","v":0},0,0]
[null,null,"Sum",{"$f":"SUM(D108:D128)","v":0},null,{"$f":"SUM(F108:F128)","v":0},{"$f":"SUM(G108:G128)","v":0},{"$f":"SUM(H108:H128)","v":0},null,{"$f":"SUM(J108:J128)","v":0},{"$f":"SUM(K108:K128)","v":0},{"$f":"SUM(L108:L128)","v":0},null,{"$f":"SUM(N108:N128)","v":0},{"$f":"SUM(O108:O128)","v":0},{"$f":"SUM(P108:P128)","v":0},{"$f":"SUM(Q108:Q128)","v":0}]
[]
[null,null,35,null,null,{"$f":"1.1*C131*D131*E131*0.001","v":0},{"$f":"F131*$F$13*'Grunddata og resultat'!$E$16*0.01","v":0},null,null,{"$f":"1.1*C131*H131*I131*0.001","v":0},{"$f":"J131*$F$13*'Grunddata og resultat'!$E$17*0.01","v":0},null,null,{"$f":"1.1*C131*L131*M131*0.001","v":0},{"$f":"N131*$F$13*'Grunddata og resultat'!$E$18*0.01","v":0},{"$f":"F131+J131+N131","v":0},0]
[null,null,35,null,null,{"$f":"1.1*C132*D132*E132*0.001","v":0},{"$f":"F132*$F$13*'Grunddata og resultat'!$E$16*0.01","v":0},null,null,{"$f":"1.1*C132*H132*I132*0.001","v":0},{"$f":"J132*$F$13*'Grunddata og resultat'!$E$17*0.01","v":0},null,null,{"$f":"1.1*C132*L132*M132*0.001","v":0},{"$f":"N132*$F$13*'Grunddata og resultat'!$E$18*0.01","v":0},0,0]
[null,null,35,null,null,{"$f":"1.1*C133*D133*E133*0.001","v":0},{"$f":"F133*$F$13*'Grunddata og resultat'!$E$16*0.01","v":0},null,null,{"$f":"1.1*C133*H133*I133*0.001","v":0},{"$f":"J133*$F$13*'Grunddata og resultat'!$E$17*0.01","v":0},null,null,{"$f":"1.1*C133*L133*M133*0.001","v":0},{"$f":"N133*$F$13*'Grunddata og resultat'!$E$18*0.01","v":0},0,0]
[null,null,50,null,null,0,{"$f":"F134*$F$13*'Grunddata og resultat'!$E$16*0.01","v":0},null,null,0,{"$f":"J134*$F$13*'Grunddata og resultat'!$E$17*0.01","v":0},null,null,0,{"$f":"N134*$F$13*'Grunddata og resultat'!$E$18*0.01","v":0},0,0]
[null,null,50,null,null,0,{"$f":"F135*$F$13*'Grunddata og resultat'!$E$16*0.01","v":0},null,null,0,{"$f":"J135*$F$13*'Grunddata og resultat'!$E$17*0.01","v":0},null,null,0,{"$f":"N135*$F$13*'Grunddata og resultat'!$E$18*0.01","v":0},0,0]
[null,null,50,null,null,0,{"$f":"F136*$F$13*'Grunddata og resultat'!$E$16*0.01","v":0},null,null,0,{"$f":"J136*$F$13*'Grunddata og resultat'!$E$17*0.01","v":0},null,null,0,{"$f":"N136*$F$13*'Grunddata og resultat'!$E$18*0.01","v":0},0,0]
[null,"Metalhalogen-",70,null,null,0,{"$f":"F137*$F$13*'Grunddata og resultat'!$E$16*0.01","v":0},null,null,0,{"$f":"J137*$F$13*'Grunddata og resultat'!$E$17*0.01","v":0},null,null,0,{"$f":"N137*$F$13*'Grunddata og resultat'!$E$18*0.01","v":0},0,0]
[null,"lamper",70,null,null,0,{"$f":"F138*$F$13*'Grunddata og resultat'!$E$16*0.01","v":0},null,null,0,{"$f":"J138*$F$13*'Grunddata og resultat'!$E$17*0.01","v":0},null,null,0,{"$f":"N138*$F$13*'Grunddata og resultat'!$E$18*0.01","v":0},0,0]
[null,null,70,null,null,0,{"$f":"F139*$F$13*'Grunddata og resultat'!$E$16*0.01","v":0},null,null,0,{"$f":"J139*$F$13*'Grunddata og resultat'!$E$17*0.01","v":0},null,null,0,{"$f":"N139*$F$13*'Grunddata og resultat'!$E$18*0.01","v":0},0,0]
[null,null,100,null,null,0,{"$f":"F140*$F$13*'Grunddata og resultat'!$E$16*0.01","v":0},null,null,0,{"$f":"J140*$F$13*'Grunddata og resultat'!$E$17*0.01","v":0},null,null,0,{"$f":"N140*$F$13*'Grunddata og resultat'!$E$18*0.01","v":0},0,0]
[null,null,100,null,null,0,{"$f":"F141*$F$13*'Grunddata og resultat'!$E$16*0.01","v":0},null,null,0,{"$f":"J141*$F$13*'Grunddata og resultat'!$E$17*0.01","v":0},null,null,0,{"$f":"N141*$F$13*'Grunddata og resultat'!$E$18*0.01","v":0},0,0]
[null,null,100,null,null,0,{"$f":"F142*$F$13*'Grunddata og resultat'!$E$16*0.01","v":0},null,null,0,{"$f":"J142*$F$13*'Grunddata og resultat'!$E$17*0.01","v":0},null,null,0,{"$f":"N142*$F$13*'Grunddata og resultat'!$E$18*0.01","v":0},0,0]
[null,null,150,null,null,0,{"$f":"F143*$F$13*'Grunddata og resultat'!$E$16*0.01","v":0},null,null,0,{"$f":"J143*$F$13*'Grunddata og resultat'!$E$17*0.01","v":0},null,null,0,{"$f":"N143*$F$13*'Grunddata og resultat'!$E$18*0.01","v":0},0,0]
[null,null,150,null,null,0,{"$f":"F144*$F$13*'Grunddata og resultat'!$E$16*0.01","v":0},null,null,0,{"$f":"J144*$F$13*'Grunddata og resultat'!$E$17*0.01","v":0},null,null,0,{"$f":"N144*$F$13*'Grunddata og resultat'!$E$18*0.01","v":0},0,0]
[null,null,150,null,null,0,{"$f":"F145*$F$13*'Grunddata og resultat'!$E$16*0.01","v":0},null,null,0,{"$f":"J145*$F$13*'Grunddata og resultat'!$E$17*0.01","v":0},null,null,0,{"$f":"N145*$F$13*'Grunddata og resultat'!$E$18*0.01","v":0},0,0]
[null,null,"Sum",{"$f":"SUM(D131:D145)","v":0},null,{"$f":"SUM(F131:F145)","v":0},{"$f":"SUM(G131:G145)","v":0},{"$f":"SUM(H131:H145)","v":0},null,{"$f":"SUM(J131:J145)","v":0},{"$f":"SUM(K131:K145)","v":0},{"$f":"SUM(L131:L145)","v":0},null,{"$f":"SUM(N131:N145)","v":0},{"$f":"SUM(O131:O145)","v":0},{"$f":"SUM(P131:P145)","v":0},{"$f":"SUM(Q131:Q145)","v":0}]
[null,"Sum for belysningskilderne",null,{"$f":"D42+D53+D72+D89+D106+D129+D146","v":0},null,{"$f":"F42+F53+F72+F89+F106+F129+F146","v":0},{"$f":"G42+G53+G72+G89+G106+G129+G146","v":0},{"$f":"H42+H53+H72+H89+H106+H129+H146","v":0},null,{"$f":"J42+J53+J72+J89+J106+J129+J146","v":0},{"$f":"K42+K53+K72+K89+K106+K129+K146","v":0},{"$f":"L42+L53+L72+L89+L106+L129+L146","v":0},null,{"$f":"N42+N53+N72+N89+N106+N129+N146","v":0},{"$f":"O42+O53+O72+O89+O106+O129+O146","v":0},{"$f":"P42+P53+P72+P89+P106+P129+P146","v":0},{"$f":"Q42+Q53+Q72+Q89+Q106+Q129+Q146","v":0}]

{"sheet":"Motorer","index":3,"n_rows":73,"n_cols":19,"rows_kept":73,"cut":false,"hidden":false,"merged":[[52,1,52,18],[32,1,32,18],[62,1,62,18],[42,1,42,18],[3,1,3,8],[17,16,17,17],[17,4,17,7],[17,8,17,11],[17,12,17,15],[15,1,15,3],[5,2,5,5]]}
[]
[null,"Data om motorer, hvis elforbrug er spændingsafhængigt"]
[]
[null,"Udstyrets spændingsafhængighed, opgjort som effektreduktion i %  ved 1% lavere spænding:"]
[null," "]
[null,"Asynkronmotor","Motorbelastning"]
[null,"Mærkeeffekt, kW","0-5 %","6-15 %","16-40 %",">40 %"]
[null,"0-1,0",2,1.4,0.7,0.2]
[null,"1,1-4,0",1.7,0.9,0.3,0]
[null,"4,1-15,0",1.4,0.6,0.1,0]
[null,"15,1-100",1.1000000000000001,0.5,0.1,0]
[null,"101-",1,0.4,0.1,0]
[]
[]
[]
[null,"Direkte forsynede asynkronmotorer:"]
[]
[null,"Motorernes ","Belastnings-","Antal","Periode 1",null,null,null,"Periode 2",null,null,null,"Periode 3",null,null,null,"Sum periode 1-3",null,"Bemærkninger"]
[null,"mærkeeffekt","grad",null,"Effektoptag","Driftstid","Elforbrug","Besparelse","Effektoptag","Driftstid","Elforbrug","Besparelse","Effektoptag","Driftstid","Elforbrug","Besparelse","Elforbrug","Besparelse"]
[null,"kW","%","Stk.","kW","h/år","kWh/år","kWh/år","kW","h/år","kWh/år","kWh/år","kW","h/år","kWh/år","kWh/år","kWh/år","kWh/år"]
[null,null,"0-5",null,null,null,{"$f":"D21*E21*F21","v":0},{"$f":"G21*$C$8*0.01*'Grunddata og resultat'!$E$16","v":0},null,null,{"$f":"D21*I21*J21","v":0},{"$f":"K21*$C$8*0.01*'Grunddata og resultat'!$E$17","v":0},null,null,{"$f":"D21*M21*N21","v":0},{"$f":"O21*$C$8*0.01*'Grunddata og resultat'!$E$18","v":0},{"$f":"G21+K21+O21","v":0},{"$f":"H21+L21+P21","v":0}]
[null,null,"0-5",null,null,null,0,{"$f":"G22*$C$8*0.01*'Grunddata og resultat'!$E$16","v":0},null,null,0,{"$f":"K22*$C$8*0.01*'Grunddata og resultat'!$E$17","v":0},null,null,0,{"$f":"O22*$C$8*0.01*'Grunddata og resultat'!$E$18","v":0},0,0]
[null,null,"0-5",null,null,null,0,{"$f":"G23*$C$8*0.01*'Grunddata og resultat'!$E$16","v":0},null,null,0,{"$f":"K23*$C$8*0.01*'Grunddata og resultat'!$E$17","v":0},null,null,0,{"$f":"O23*$C$8*0.01*'Grunddata og resultat'!$E$18","v":0},0,0]
[null,"0 - 1,0","6-15",null,null,null,0,{"$f":"G24*$D$8*0.01*'Grunddata og resultat'!$E$16","v":0},null,null,0,{"$f":"K24*$D$8*0.01*'Grunddata og resultat'!$E$17","v":0},null,null,0,{"$f":"O24*$D$8*0.01*'Grunddata og resultat'!$E$18","v":0},0,0]
[null,null,"6-15",null,null,null,0,{"$f":"G25*$D$8*0.01*'Grunddata og resultat'!$E$16","v":0},null,null,0,{"$f":"K25*$D$8*0.01*'Grunddata og resultat'!$E$17","v":0},null,null,0,{"$f":"O25*$D$8*0.01*'Grunddata og resultat'!$E$18","v":0},0,0]
[null,null,"6-15",null,null,null,0,{"$f":"G26*$D$8*0.01*'Grunddata og resultat'!$E$16","v":0},null,null,0,{"$f":"K26*$D$8*0.01*'Grunddata og resultat'!$E$17","v":0},null,null,0,{"$f":"O26*$D$8*0.01*'Grunddata og resultat'!$E$18","v":0},0,0]
[null,null,"16-40",null,null,null,0,{"$f":"G27*$E$8*0.01*'Grunddata og resultat'!$E$16","v":0},null,null,0,{"$f":"K27*$E$8*0.01*'Grunddata og resultat'!$E$17","v":0},null,null,0,{"$f":"O27*$E$8*0.01*'Grunddata og resultat'!$E$18","v":0},0,0]
[null,null,"16-40",null,null,null,0,{"$f":"G28*$E$8*0.01*'Grunddata og resultat'!$E$16","v":0},null,null,0,{"$f":"K28*$E$8*0.01*'Grunddata og resultat'!$E$17","v":0},null,null,0,{"$f":"O28*$E$8*0.01*'Grunddata og resultat'!$E$18","v":0},0,0]
[null,null,"16-40",null,null,null,0,{"$f":"G29*$E$8*0.01*'Grunddata og resultat'!$E$16","v":0},null,null,0,{"$f":"K29*$E$8*0.01*'Grunddata og resultat'!$E$17","v":0},null,null,0,{"$f":"O29*$E$8*0.01*'Grunddata og resultat'!$E$18","v":0},0,0]
[null,null,"40 -",null,null,null,0,{"$f":"G30*$F$8*0.01*'Grunddata og resultat'!$E$16","v":0},null,null,0,{"$f":"K30*$F$8*0.01*'Grunddata og resultat'!$E$17","v":0},null,null,0,{"$f":"O30*$F$8*0.01*'Grunddata og resultat'!$E$18","v":0},0,0]
[null,null,"40 -",null,null,null,0,{"$f":"G31*$F$8*0.01*'Grunddata og resultat'!$E$16","v":0},null,null,0,{"$f":"K31*$F$8*0.01*'Grunddata og resultat'!$E$17","v":0},null,null,0,{"$f":"O31*$F$8*0.01*'Grunddata og resultat'!$E$18","v":0},0,0]
[null,null,"40 -",null,null,null,0,{"$f":"G32*$F$8*0.01*'Grunddata og resultat'!$E$16","v":0},null,null,0,{"$f":"K32*$F$8*0.01*'Grunddata og resultat'!$E$17","v":0},null,null,0,{"$f":"O32*$F$8*0.01*'Grunddata og resultat'!$E$18","v":0},0,0]
[]
[null,null,"0-5",null,null,null,0,{"$f":"G34*$C$9*0.01*'Grunddata og resultat'!$E$16","v":0},null,null,0,{"$f":"K34*$C$9*0.01*'Grunddata og resultat'!$E$17","v":0},null,null,0,{"$f":"O34*$C$9*0.01*'Grunddata og resultat'!$E$18","v":0},0,0]
[null,null,"0-5",null,null,null,0,{"$f":"G35*$C$9*0.01*'Grunddata og resultat'!$E$16","v":0},null,null,0,{"$f":"K35*$C$9*0.01*'Grunddata og resultat'!$E$17","v":0},null,null,0,{"$f":"O35*$C$9*0.01*'Grunddata og resultat'!$E$18","v":0},0,0]
[null,null,"0-5",null,null,null,0,{"$f":"G36*$C$9*0.01*'Grunddata og resultat'!$E$16","v":0},null,null,0,{"$f":"K36*$C$9*0.01*'Grunddata og resultat'!$E$17","v":0},null,null,0,{"$f":"O36*$C$9*0.01*'Grunddata og resultat'!$E$18","v":0},0,0]
[null,null,"6-15",null,null,null,0,{"$f":"G37*$D$9*0.01*'Grunddata og resultat'!$E$16","v":0},null,null,0,{"$f":"K37*$D$9*0.01*'Grunddata og resultat'!$E$17","v":0},null,null,0,{"$f":"O37*$D$9*0.01*'Grunddata og resultat'!$E$18","v":0},0,0]
[null,"1,1 - 4","6-15",null,null,null,0,{"$f":"G38*$D$9*0.01*'Grunddata og resultat'!$E$16","v":0},null,null,0,{"$f":"K38*$D$9*0.01*'Grunddata og resultat'!$E$17","v":0},null,null,0,{"$f":"O38*$D$9*0.01*'Grunddata og resultat'!$E$18","v":0},0,0]
[null,null,"6-15",null,null,null,0,{"$f":"G39*$D$9*0.01*'Grunddata og resultat'!$E$16","v":0},null,null,0,{"$f":"K39*$D$9*0.01*'Grunddata og resultat'!$E$17","v":0},null,null,0,{"$f":"O39*$D$9*0.01*'Grunddata og resultat'!$E$18","v":0},0,0]
[null,null,"16-40",null,null,null,0,{"$f":"G40*$E$9*0.01*'Grunddata og resultat'!$E$16","v":0},null,null,0,{"$f":"K40*$E$9*0.01*'Grunddata og resultat'!$E$17","v":0},null,null,0,{"$f":"O40*$E$9*0.01*'Grunddata og resultat'!$E$18","v":0},0,0]
[null,null,"16-40",null,null,null,0,{"$f":"G41*$E$9*0.01*'Grunddata og resultat'!$E$16","v":0},null,null,0,{"$f":"K41*$E$9*0.01*'Grunddata og resultat'!$E$17","v":0},null,null,0,{"$f":"O41*$E$9*0.01*'Grunddata og resultat'!$E$18","v":0},0,0]
[null,null,"16-40",null,null,null,0,{"$f":"G42*$E$9*0.01*'Grunddata og resultat'!$E$16","v":0},null,null,0,{"$f":"K42*$E$9*0.01*'Grunddata og resultat'!$E$17","v":0},null,null,0,{"$f":"O42*$E$9*0.01*'Grunddata og resultat'!$E$18","v":0},0,0]
[]
[null,null,"0-5",null,null,null,0,{"$f":"G44*$C$10*0.01*'Grunddata og resultat'!$E$16","v":0},null,null,0,{"$f":"K44*$C$10*0.01*'Grunddata og resultat'!$E$17","v":0},null,null,0,{"$f":"O44*$C$10*0.01*'Grunddata og resultat'!$E$18","v":0},0,0]
[null,null,"0-5",null,null,null,0,{"$f":"G45*$C$10*0.01*'Grunddata og resultat'!$E$16","v":0},null,null,0,{"$f":"K45*$C$10*0.01*'Grunddata og resultat'!$E$17","v":0},null,null,0,{"$f":"O45*$C$10*0.01*'Grunddata og resultat'!$E$18","v":0},0,0]
[null,null,"0-5",null,null,null,0,{"$f":"G46*$C$10*0.01*'Grunddata og resultat'!$E$16","v":0},null,null,0,{"$f":"K46*$C$10*0.01*'Grunddata og resultat'!$E$17","v":0},null,null,0,{"$f":"O46*$C$10*0.01*'Grunddata og resultat'!$E$18","v":0},0,0]
[null,null,"6-15",null,null,null,0,{"$f":"G47*$D$10*0.01*'Grunddata og resultat'!$E$16","v":0},null,null,0,{"$f":"K47*$D$10*0.01*'Grunddata og resultat'!$E$17","v":0},null,null,0,{"$f":"O47*$D$10*0.01*'Grunddata og resultat'!$E$18","v":0},0,0]
[null,"4,1 - 15","6-15",null,null,null,0,{"$f":"G48*$D$10*0.01*'Grunddata og resultat'!$E$16","v":0},null,null,0,{"$f":"K48*$D$10*0.01*'Grunddata og resultat'!$E$17","v":0},null,null,0,{"$f":"O48*$D$10*0.01*'Grunddata og resultat'!$E$18","v":0},0,0]
[null,null,"6-15",null,null,null,0,{"$f":"G49*$D$10*0.01*'Grunddata og resultat'!$E$16","v":0},null,null,0,{"$f":"K49*$D$10*0.01*'Grunddata og resultat'!$E$17","v":0},null,null,0,{"$f":"O49*$D$10*0.01*'Grunddata og resultat'!$E$18","v":0},0,0]
[null,null,"16-40",null,null,null,0,{"$f":"G50*$E$10*0.01*'Grunddata og resultat'!$E$16","v":0},null,null,0,{"$f":"K50*$E$10*0.01*'Grunddata og resultat'!$E$17","v":0},null,null,0,{"$f":"O50*$E$10*0.01*'Grunddata og resultat'!$E$18","v":0},0,0]
[null,null,"16-40",null,null,null,0,{"$f":"G51*$E$10*0.01*'Grunddata og resultat'!$E$16","v":0},null,null,0,{"$f":"K51*$E$10*0.01*'Grunddata og resultat'!$E$17","v":0},null,null,0,{"$f":"O51*$E$10*0.01*'Grunddata og resultat'!$E$18","v":0},0,0]
[null,null,"16-40",null,null,null,{"$f":"D52*E52*F52","v":0},{"$f":"G52*$E$10*0.01*'Grunddata og resultat'!$E$16","v":0},null,null,{"$f":"D52*I52*J52","v":0},{"$f":"K52*$E$10*0.01*'Grunddata og resultat'!$E$17","v":0},null,null,{"$f":"D52*M52*N52","v":0},{"$f":"O52*$E$10*0.01*'Grunddata og resultat'!$E$18","v":0},{"$f":"G52+K52+O52","v":0},{"$f":"H52+L52+P52","v":0}]
[]
[null,null,"0-5",null,null,null,0,{"$f":"G54*$C$11*0.01*'Grunddata og resultat'!$E$16","v":0},null,null,0,{"$f":"K54*$C$11*0.01*'Grunddata og resultat'!$E$17","v":0},null,null,0,{"$f":"O54*$C$11*0.01*'Grunddata og resultat'!$E$18","v":0},0,0]
[null,null,"0-5",null,null,null,0,{"$f":"G55*$C$11*0.01*'Grunddata og resultat'!$E$16","v":0},null,null,0,{"$f":"K55*$C$11*0.01*'Grunddata og resultat'!$E$17","v":0},null,null,0,{"$f":"O55*$C$11*0.01*'Grunddata og resultat'!$E$18","v":0},0,0]
[null,null,"0-5",null,null,null,0,{"$f":"G56*$C$11*0.01*'Grunddata og resultat'!$E$16","v":0},null,null,0,{"$f":"K56*$C$11*0.01*'Grunddata og resultat'!$E$17","v":0},null,null,0,{"$f":"O56*$C$11*0.01*'Grunddata og resultat'!$E$18","v":0},0,0]
[null,null,"6-15",null,null,null,0,{"$f":"G57*$D$11*0.01*'Grunddata og resultat'!$E$16","v":0},null,null,0,{"$f":"K57*$D$11*0.01*'Grunddata og resultat'!$E$17","v":0},null,null,0,{"$f":"O57*$D$11*0.01*'Grunddata og resultat'!$E$18","v":0},0,0]
[null,"15,1 - 100","6-15",null,null,null,0,{"$f":"G58*$D$11*0.01*'Grunddata og resultat'!$E$16","v":0},null,null,0,{"$f":"K58*$D$11*0.01*'Grunddata og resultat'!$E$17","v":0},null,null,0,{"$f":"O58*$D$11*0.01*'Grunddata og resultat'!$E$18","v":0},0,0]
[null,null,"6-15",null,null,null,0,{"$f":"G59*$D$11*0.01*'Grunddata og resultat'!$E$16","v":0},null,null,0,{"$f":"K59*$D$11*0.01*'Grunddata og resultat'!$E$17","v":0},null,null,0,{"$f":"O59*$D$11*0.01*'Grunddata og resultat'!$E$18","v":0},0,0]
[null,null,"16-40",null,null,null,0,{"$f":"G60*$E$11*0.01*'Grunddata og resultat'!$E$16","v":0},null,null,0,{"$f":"K60*$E$11*0.01*'Grunddata og resultat'!$E$17","v":0},null,null,0,{"$f":"O60*$E$11*0.01*'Grunddata og resultat'!$E$18","v":0},0,0]
[null,null,"16-40",null,null,null,0,{"$f":"G61*$E$11*0.01*'Grunddata og resultat'!$E$16","v":0},null,null,0,{"$f":"K61*$E$11*0.01*'Grunddata og resultat'!$E$17","v":0},null,null,0,{"$f":"O61*$E$11*0.01*'Grunddata og resultat'!$E$18","v":0},0,0]
[null,null,"16-40",null,null,null,0,{"$f":"G62*$E$11*0.01*'Grunddata og resultat'!$E$16","v":0},null,null,0,{"$f":"K62*$E$11*0.01*'Grunddata og resultat'!$E$17","v":0},null,null,0,{"$f":"O62*$E$11*0.01*'Grunddata og resultat'!$E$18","v":0},0,0]
[]
[null,null,"0-5",null,null,null,0,{"$f":"G64*$C$12*0.01*'Grunddata og resultat'!$E$16","v":0},null,null,0,{"$f":"K64*$C$12*0.01*'Grunddata og resultat'!$E$17","v":0},null,null,0,{"$f":"O64*$C$12*0.01*'Grunddata og resultat'!$E$18","v":0},0,0]
[null,null,"0-5",null,null,null,0,{"$f":"G65*$C$12*0.01*'Grunddata og resultat'!$E$16","v":0},null,null,0,{"$f":"K65*$C$12*0.01*'Grunddata og resultat'!$E$17","v":0},null,null,0,{"$f":"O65*$C$12*0.01*'Grunddata og resultat'!$E$18","v":0},0,0]
[null,null,"0-5",null,null,null,0,{"$f":"G66*$C$12*0.01*'Grunddata og resultat'!$E$16","v":0},null,null,0,{"$f":"K66*$C$12*0.01*'Grunddata og resultat'!$E$17","v":0},null,null,0,{"$f":"O66*$C$12*0.01*'Grunddata og resultat'!$E$18","v":0},0,0]
[null,null,"6-15",null,null,null,0,{"$f":"G67*$D$12*0.01*'Grunddata og resultat'!$E$16","v":0},null,null,0,{"$f":"K67*$D$12*0.01*'Grunddata og resultat'!$E$17","v":0},null,null,0,{"$f":"O67*$D$12*0.01*'Grunddata og resultat'!$E$18","v":0},0,0]
[null,"101 -","6-15",null,null,null,0,{"$f":"G68*$D$12*0.01*'Grunddata og resultat'!$E$16","v":0},null,null,0,{"$f":"K68*$D$12*0.01*'Grunddata og resultat'!$E$17","v":0},null,null,0,{"$f":"O68*$D$12*0.01*'Grunddata og resultat'!$E$18","v":0},0,0]
[null,null,"6-15",null,null,null,0,{"$f":"G69*$D$12*0.01*'Grunddata og resultat'!$E$16","v":0},null,null,0,{"$f":"K69*$D$12*0.01*'Grunddata og resultat'!$E$17","v":0},null,null,0,{"$f":"O69*$D$12*0.01*'Grunddata og resultat'!$E$18","v":0},0,0]
[null,null,"16-40",null,null,null,0,{"$f":"G70*$E$12*0.01*'Grunddata og resultat'!$E$16","v":0},null,null,0,{"$f":"K70*$E$12*0.01*'Grunddata og resultat'!$E$17","v":0},null,null,0,{"$f":"O70*$E$12*0.01*'Grunddata og resultat'!$E$18","v":0},0,0]
[null,null,"16-40",null,null,null,0,{"$f":"G71*$E$12*0.01*'Grunddata og resultat'!$E$16","v":0},null,null,0,{"$f":"K71*$E$12*0.01*'Grunddata og resultat'!$E$17","v":0},null,null,0,{"$f":"O71*$E$12*0.01*'Grunddata og resultat'!$E$18","v":0},0,0]
[null,null,"16-40",null,null,null,0,{"$f":"G72*$E$12*0.01*'Grunddata og resultat'!$E$16","v":0},null,null,0,{"$f":"K72*$E$12*0.01*'Grunddata og resultat'!$E$17","v":0},null,null,0,{"$f":"O72*$E$12*0.01*'Grunddata og resultat'!$E$18","v":0},0,0]
[null,"Sum af motorer",null,{"$f":"SUM(D21:D72)","v":0},null,null,{"$f":"SUM(G21:G72)","v":0},{"$f":"SUM(H21:H72)","v":0},null,null,{"$f":"SUM(K21:K72)","v":0},{"$f":"SUM(L21:L72)","v":0},null,null,{"$f":"SUM(O21:O72)","v":0},{"$f":"SUM(P21:P72)","v":0},0,0]

{"sheet":"Varme","index":4,"n_rows":29,"n_cols":18,"rows_kept":29,"cut":false,"hidden":false,"merged":[[5,1,6,1],[5,2,6,2],[13,15,13,16],[13,3,13,6],[13,7,13,10],[13,11,13,14],[11,1,11,2]]}
[]
[null,"Data om elvarmelegemer, hvis elforbrug er spændingsafhængigt"]
[]
[null,"Udstyrets spændingsafhængighed, opgjort som effektreduktion i %  ved 1% lavere spænding:"]
[null," "]
[null,"Elvarmelegemer","Effektreduktion i %"]
[]
[null,"Varme, der ikke reguleres ",1.9]
[]
[]
[]
[null,"Elvarmelegemer uden temperaturstyring:"]
[]
[null,"Varmelegemernes","Antal","Periode 1",null,null,null,"Periode 2",null,null,null,"Periode 3",null,null,null,"Sum periode 1-3",null,"Bemærkninger"]
[null,"mærkeeffekt",null,"Effektoptag","Driftstid","Elforbrug","Besparelse","Effektoptag","Driftstid","Elforbrug","Besparelse","Effektoptag","Driftstid","Elforbrug","Besparelse","Elforbrug","Besparelse"]
[null,"kW","Stk.","kW","h/år","kWh/år","kWh/år","kW","h/år","kWh/år","kWh/år","kW","h/år","kWh/år","kWh/år","kWh/år","kWh/år"]
[null,null,null,null,null,{"$f":"C17*D17*E17","v":0},{"$f":"F17*$C$8*0.01*'Grunddata og resultat'!$E$16","v":0},null,null,{"$f":"C17*H17*I17","v":0},{"$f":"J17*$C$8*0.01*'Grunddata og resultat'!$E$17","v":0},null,null,{"$f":"C17*L17*M17","v":0},{"$f":"N17*$C$8*0.01*'Grunddata og resultat'!$E$18","v":0},{"$f":"F17+J17+N17","v":0},{"$f":"G17+K17+O17","v":0}]
[null,null,null,null,null,{"$f":"C18*D18*E18","v":0},{"$f":"F18*$C$8*0.01*'Grunddata og resultat'!$E$16","v":0},null,null,0,{"$f":"J18*$C$8*0.01*'Grunddata og resultat'!$E$17","v":0},null,null,0,{"$f":"N18*$C$8*0.01*'Grunddata og resultat'!$E$18","v":0},0,0]
[null,null,null,null,null,0,{"$f":"F19*$C$8*0.01*'Grunddata og resultat'!$E$16","v":0},null,null,0,{"$f":"J19*$C$8*0.01*'Grunddata og resultat'!$E$17","v":0},null,null,0,{"$f":"N19*$C$8*0.01*'Grunddata og resultat'!$E$18","v":0},0,0]
[null,null,null,null,null,0,{"$f":"F20*$C$8*0.01*'Grunddata og resultat'!$E$16","v":0},null,null,0,{"$f":"J20*$C$8*0.01*'Grunddata og resultat'!$E$17","v":0},null,null,0,{"$f":"N20*$C$8*0.01*'Grunddata og resultat'!$E$18","v":0},0,0]
[null,null,null,null,null,0,{"$f":"F21*$C$8*0.01*'Grunddata og resultat'!$E$16","v":0},null,null,0,{"$f":"J21*$C$8*0.01*'Grunddata og resultat'!$E$17","v":0},null,null,0,{"$f":"N21*$C$8*0.01*'Grunddata og resultat'!$E$18","v":0},0,0]
[null,null,null,null,null,0,{"$f":"F22*$C$8*0.01*'Grunddata og resultat'!$E$16","v":0},null,null,0,{"$f":"J22*$C$8*0.01*'Grunddata og resultat'!$E$17","v":0},null,null,0,{"$f":"N22*$C$8*0.01*'Grunddata og resultat'!$E$18","v":0},0,0]
[null,null,null,null,null,0,{"$f":"F23*$C$8*0.01*'Grunddata og resultat'!$E$16","v":0},null,null,0,{"$f":"J23*$C$8*0.01*'Grunddata og resultat'!$E$17","v":0},null,null,0,{"$f":"N23*$C$8*0.01*'Grunddata og resultat'!$E$18","v":0},0,0]
[null,null,null,null,null,0,{"$f":"F24*$C$8*0.01*'Grunddata og resultat'!$E$16","v":0},null,null,0,{"$f":"J24*$C$8*0.01*'Grunddata og resultat'!$E$17","v":0},null,null,0,{"$f":"N24*$C$8*0.01*'Grunddata og resultat'!$E$18","v":0},0,0]
[null,null,null,null,null,0,{"$f":"F25*$C$8*0.01*'Grunddata og resultat'!$E$16","v":0},null,null,0,{"$f":"J25*$C$8*0.01*'Grunddata og resultat'!$E$17","v":0},null,null,0,{"$f":"N25*$C$8*0.01*'Grunddata og resultat'!$E$18","v":0},0,0]
[null,null,null,null,null,0,{"$f":"F26*$C$8*0.01*'Grunddata og resultat'!$E$16","v":0},null,null,0,{"$f":"J26*$C$8*0.01*'Grunddata og resultat'!$E$17","v":0},null,null,0,{"$f":"N26*$C$8*0.01*'Grunddata og resultat'!$E$18","v":0},0,0]
[null,null,null,null,null,0,{"$f":"F27*$C$8*0.01*'Grunddata og resultat'!$E$16","v":0},null,null,0,{"$f":"J27*$C$8*0.01*'Grunddata og resultat'!$E$17","v":0},null,null,0,{"$f":"N27*$C$8*0.01*'Grunddata og resultat'!$E$18","v":0},0,0]
[null,null,null,null,null,0,{"$f":"F28*$C$8*0.01*'Grunddata og resultat'!$E$16","v":0},null,null,0,{"$f":"J28*$C$8*0.01*'Grunddata og resultat'!$E$17","v":0},null,null,0,{"$f":"N28*$C$8*0.01*'Grunddata og resultat'!$E$18","v":0},0,0]
[null,"Sum af varmelegemer",null,{"$f":"SUM(D17:D28)","v":0},null,{"$f":"SUM(F17:F28)","v":0},{"$f":"SUM(G17:G28)","v":0},{"$f":"SUM(H17:H28)","v":0},null,{"$f":"SUM(J17:J28)","v":0},{"$f":"SUM(K17:K28)","v":0},{"$f":"SUM(L17:L28)","v":0},null,{"$f":"SUM(N17:N28)","v":0},{"$f":"SUM(O17:O28)","v":0},0,0]

{"sheet":"Guide","index":5,"n_rows":127,"n_cols":8,"rows_kept":127,"cut":false,"hidden":false,"merged":[[3,1,5,18],[23,1,25,18],[30,1,32,18],[34,1,35,18],[45,1,47,18],[81,1,81,2],[59,1,60,18],[64,1,65,18],[67,1,68,18],[80,1,80,2],[80,3,80,8],[81,3,81,4],[81,5,81,6],[81,7,81,8],[83,1,83,2],[84,1,84,2],[85,1,85,2],[82,3,82,4],[83,3,83,4],[84,3,84,4],[85,3,85,4],[93,1,94,18],[96,1,96,2],[96,3,96,8],[82,7,82,8],[83,7,83,8],[84,7,84,8],[85,7,85,8],[86,7,86,8],[82,5,82,6],[83,5,83,6],[84,5,84,6],[85,5,85,6],[86,5,86,6],[86,1,86,2],[86,3,86,4],[82,1,82,2],[97,1,97,2],[97,3,97,4],[97,5,97,6],[97,7,97,8],[98,1,98,2],[98,3,98,4],[98,5,98,6],[98,7,98,8],[103,7,103,8],[99,1,99,2],[99,3,99,4],[99,5,99,6],[99,7,99,8],[100,1,100,2],[100,3,100,4],[100,5,100,6],[100,7,100,8],[126,1,128,18],[114,1,115,18],[121,1,123,18],[124,1,125,18],[101,1,101,2],[101,3,101,4],[101,5,101,6],[101,7,101,8],[107,1,109,18],[102,1,102,2],[102,3,102,4],[102,5,102,6],[102,7,102,8],[103,1,103,2],[103,3,103,4],[103,5,103,6]]}
[]
[null,"Nuværende spændingsforfold"]
[]
[null,"Det er nødvendigt at skabe et godt overblik over spændingsforholdene i installationen for at kunne vurdere, hvor meget spændingen kan sænkes. Da spændingen kan variere meget over døgnet og ugen og også kan variere fra uge til uge, bør spændingen måles og registreres over mindst to uger, der vælges i en periode, hvor installationens elbelastning er høj. Det er nødvendigt at måle spændingen i alle tre faser, da spændingerne kan være forskellige. i nedenstående figur ses et eksempel på en sådan måling."]
[]
[]
[]
[]
[]
[]
[]
[]
[]
[]
[]
[]
[]
[]
[]
[]
[]
[]
[]
[null,"Spændingen skal måles flere steder i installationen. Den måles dels helt tæt på det sted, hvor det spændingssænkende udstyr påtænkes indsat, og dels i installationens \"fjerneste punkt\", dvs. hvor spændingen forventes at være lavest. Er der særligt spændingsfølsomt udstyr, bør spændingen også måles ved dette udstyr. Målingerne i de forskellige punkter bør foregå samtidigt."]
[]
[]
[]
[]
[null,"Fastlæggelse af den mulige spændingssænkning"]
[]
[null,"Ud fra de nuværende spændingsforhold vurderes, hvor meget forsyningsspændingen til installationens apparater kan sænkes. Som udgangspunkt må det forventes, at apparaterne fungerer tilfredsstillende ved den nedre grænse for standardspændingen, dvs. ved 207 V. Men en lidt højere minimumsspænding kan begrundes at muligheden for, at spændingen kan være lavere i andre dele af året end i de uger, hvor den er målt, eller i andre særlige forhold eller i ønsket om en ekstra sikkerhed."]
[]
[]
[]
[null,"For udstyr med procentuel spændingsreduktion beregnes den mulige spændingssænkning herefter som den laveste af de registrerede fasespændinger minus den fastsatte minimumsspænding:"]
[]
[]
[null,"ΔV = Vlavest – Vmin "]
[]
[null,"og den procentuelle spændingssænkning beregnes som"]
[]
[null,"ΔV% = ΔV/Vlavest  · 100 %"]
[]
[null,"Af udstyrets spændingstrin vælges det, der ligger nærmest, men under ΔV%."]
[]
[null,"Udstyr for fast spænding indstilles til en udgangsspænding på Vmin. Den procentvise spændingsreduktion og elbesparelserne vil variere over døgnet og året, hvorfor det er nødvendigt at lave en varighedskurve for spændingen eller at tilnærme med nogle niveauer for spændingen, hvis man ønsker at beregne besparelsen i det årlige elforbrug. I værktøjet er det forenklet til en varighedskurve med to eller tre spændingsniveauer, se nedenstående figur."]
[]
[]
[]
[]
[]
[]
[]
[]
[]
[]
[]
[null,"Motorbelastning (belastningsgrad)"]
[]
[null,"Belastningsgraden for en motor er forholdet mellem motorens afgivne effekt (akseleffekten) og motorens nominelle effekt (mærkeeffekten). Akseleffekten kan i princippet kun bestemmes, hvis man kender det afgivne moment på motorens aksel og omdrejningstallet."]
[]
[]
[null,"Omdrejningstallet kan rimeligt nemt måles mens det i praksis er umuligt at måle det afgivne moment, medmindre man har en momentprøvestand med en momentmåler til rådighed."]
[]
[null,"En ikke så præcis metode er, at måle motorens effektoptag og dividere det med motorens nominelle effekt. I praksis afviger denne ”belastningsgrad” 5 – 20 % fra den rigtige belastningsgrad, så den kan derfor give et rimeligt godt billede af hvor hårdt motoren er belastet. "]
[]
[]
[null,"En anden metode til vurdering af motorens belastningsgrad tager udgangspunkt i motorens omløbstal ved mærkeeffekten nmærke og det aktuelle omløbstal naktuel. Ud fra disse to tal beregnes slippene s, dvs. afvigelsen fra det nominelle omløbstal nnom på 3000 (2-polet motor), 1500 (4-polet) eller 1000 (6-polet):"]
[]
[]
[null,"smærke  = (nnom - nmærke) : nnom"]
[]
[null,"saktuel   = (nnom - naktuel) : nnom"]
[]
[null,"En motors belastning er omtrent ligefrem proportional med slippet, dvs."]
[]
[null,"Motorens belastningsgrad = saktuel : smærke =  (nnom - naktuel) : (nnom - nmærke)"]
[]
[null,"nnom  fremgår af motorens poltal. naktuel kan måles med f. eks. tachometer. nmærke aflæses på motorens mærkeplade. Er det ikke muligt, kan de typiske værdier i tabel 1 benyttes. "]
[]
[null,"Mærkeeffekt",null,"Antal poler"]
[null,"kW",null,6,null,4,null,2]
[null,"0-1,0",null,950,null,1420,null,2860]
[null,"1,1-4,0",null,960,null,1440,null,2890]
[null,"4,1-15,0",null,970,null,1460,null,2910]
[null,"15,1-100",null,980,null,1475,null,2950]
[null,"101-",null,990,null,1485,null,2975]
[]
[null,"Tabel 1. Typiske mærke-omdrejningstal (o/min.) for elmotorer (IE2 motorer)"]
[]
[]
[null,"Typiske belastningsgrader for motorer"]
[]
[null,"For at foretage en nogenlunde nøjagtig vurdering af besparelsespotentialet er det nødvendigt at gennemføre nogle målinger og registreringer på motorerne. Ønsker man blot at foretage et hurtigt skøn af besparelsespotentialet ved reduktion af spændingen, kan tabel 2 være en hjælp. "]
[]
[]
[null,null,null,"Motorstørrelse [kW]"]
[null,null,null,"0 - 4",null,"4 -30",null,"30 - 500"]
[null,"Ventilation",null,55,null,60,null,70]
[null,"Pumper",null,50,null,55,null,60]
[null,"Trykluft",null,70,null,75,null,75]
[null,"Køling",null,70,null,70,null,70]
[null,"Hydraulik",null,75,null,75,null,75]
[null,"Anden motordrift",null,35,null,40,null,45]
[]
[null,"Tabel 2. Typiske belastningsgrader i % for motorer til forskellige applikationer og i forskellige størrelser (ref. 4)"]
[]
[null,"Sammenholdes tabel 2 med tabel 4 (som viser, at det stort set kun er for motorer, som er belastet under 40%, at der opnås en besparelse ved at sænke spændingen) ses det, at det kun er ved ”Anden motordrift”, der vil kunne opnås en besparelse. Dette gælder som hovedregel, men der er mange individuelle afvigelser herfra i form af lavt belastede motorer til alle typer af formål."]
[]
[]
[]
[]
[null,"Effektoptag"]
[]
[null,"Ved måling af effektoptag anvendes et watt meter. Målingen kan foretages enten på motorens hovedrelæ i styreskabet eller på motorens klemkasse. Ofte er der installeret en afbryder mellem hovedrelæet og motoren. I denne afbryder er der ligeledes mulighed for at foretage målingen. Målingen kan også foretages i el-tavlen.  "]
[]
[]
[null,"Målingen foretages med et tangwattmeter og dertil hørende strømtænger og spændingsprober."]
[]
[null,"Måling på installationer og tavler under spænding er L‐AUS arbejde (arbejde på installationer under spænding)."]
[null,"Der er krav om, at arbejde på installationer under spænding skal udføres af sagkyndige personer, der har kendskab til og erfaring i de arbejdsoperationer, der skal udføres."]
[null,"For at en person kan betragtes som sagkyndig, må vedkommende have den fornødne uddannelse, som sætter ham eller hende i stand til at bemærke de risici og at undgå farer, som elektricitet kan medføre. Hvis vedkommende ikke har en elektroteknisk uddannelse (f.eks. elektriker, installatør, stærkstrømstekniker, stærkstrømsingeniør), skal vedkommende have arbejdet på enten installationer eller på forsyningsanlæg med lignende arbejdsopgaver i så lang tid, at det kan sidestilles med en egentlig uddannelse."]
[]
[]
[null,"Denne tolkning giver bl.a. elforsyningsvirksomheder og elinstallatører på virksomheder mulighed for at oplære medarbejdere i forskellige arbejdsopgaver, så de kan betragtes som sagkyndige indenfor dette specielle stykke arbejde."]
[]
[null,"Det er ikke muligt at fastsætte nærmere uddannelseskrav eller oplæringstid. Sker der fejl eller ulykker, vil vi vurdere, om den pågældende har fået en tilstrækkelig uddannelse til, at han kan betegnes som sagkyndig. Det er altså ikke tilstrækkeligt, at en person uden en elektroteknisk uddannelse kun har deltaget i et kursus, eller er instrueret om arbejdsopgaver på installationer og tavler."]

{"sheet":"Udskrift","index":6,"n_rows":125,"n_cols":6,"rows_kept":125,"cut":false,"hidden":false,"merged":[[2,2,2,3],[4,2,4,3],[6,2,6,3],[8,2,8,3]]}
[]
[]
[null,"Virksomhed/område:",{"$f":"IF('Grunddata og resultat'!C6=\"\",\"\",'Grunddata og resultat'!C6)","v":""}]
[]
[null,"Virksomhedens/områdets elforbrug:",{"$f":"IF('Grunddata og resultat'!C8=\"\",\"\",'Grunddata og resultat'!C8)","v":""},null,"kWh/år"]
[]
[null,"Vurdering udført af:",{"$f":"IF('Grunddata og resultat'!C10=\"\",\"\",'Grunddata og resultat'!C10)","v":""}]
[]
[null,"Fra firma:",{"$f":"IF('Grunddata og resultat'!E10=\"\",\"\",'Grunddata og resultat'!E10)","v":""}]
[]
[null,"Dato:",{"$f":"IF('Grunddata og resultat'!G10=\"\",\"\",'Grunddata og resultat'!G10)","v":""}]
[]
[]
[null,"Spændingssænkning"]
[]
[null,"Periode","Nuværende sp.","Spænding sænkes til","Spændingsreduktion","Driftstid"]
[null,null,"V","V","%","h/år"]
[null,1,{"$f":"IF('Grunddata og resultat'!C16=\"\",\"\",'Grunddata og resultat'!C16)","v":""},{"$f":"IF('Grunddata og resultat'!D16=\"\",\"\",'Grunddata og resultat'!D16)","v":""},{"$f":"IF(C18=\"\",0,(C18-D18)/C18*100)","v":0},{"$f":"IF('Grunddata og resultat'!F16=\"\",\"\",'Grunddata og resultat'!F16)","v":""}]
[null,2,{"$f":"IF('Grunddata og resultat'!C17=\"\",\"\",'Grunddata og resultat'!C17)","v":""},{"$f":"IF('Grunddata og resultat'!D17=\"\",\"\",'Grunddata og resultat'!D17)","v":""},{"$f":"IF(C19=\"\",0,(C19-D19)/C19*100)","v":0},{"$f":"IF('Grunddata og resultat'!F17=\"\",\"\",'Grunddata og resultat'!F17)","v":""}]
[null,3,{"$f":"IF('Grunddata og resultat'!C18=\"\",\"\",'Grunddata og resultat'!C18)","v":""},{"$f":"IF('Grunddata og resultat'!D18=\"\",\"\",'Grunddata og resultat'!D18)","v":""},{"$f":"IF(C20=\"\",0,(C20-D20)/C20*100)","v":0},{"$f":"IF('Grunddata og resultat'!F18=\"\",\"\",'Grunddata og resultat'!F18)","v":""}]
[null,"Sum",null,null,null,{"$f":"SUM(F18:F20)","v":0}]
[null,"Manglende timer ift. 8760 h/år",null,null,null,{"$f":"8760 - F21","v":8760}]
[]
[null,"Resultater"]
[]
[null,null,"Periode 1"]
[null,null,"Elforbrug","Besparelse"]
[null,null,"kWh/år","kWh/år"]
[null,"Lyskilder",{"$f":"'Grunddata og resultat'!C31","v":0},{"$f":"'Grunddata og resultat'!D31","v":0}]
[null,"Motorer",{"$f":"'Grunddata og resultat'!C32","v":0},{"$f":"'Grunddata og resultat'!D32","v":0}]
[null,"Varme",{"$f":"'Grunddata og resultat'!C33","v":0},{"$f":"'Grunddata og resultat'!D33","v":0}]
[null,"I alt",{"$f":"SUM(C29:C31)","v":0},0]
[]
[null,null,"Periode 2"]
[null,null,"Elforbrug","Besparelse"]
[null,null,"kWh/år","kWh/år"]
[null,"Lyskilder",{"$f":"'Grunddata og resultat'!E31","v":0},{"$f":"'Grunddata og resultat'!F31","v":0}]
[null,"Motorer",{"$f":"'Grunddata og resultat'!E32","v":0},{"$f":"'Grunddata og resultat'!F32","v":0}]
[null,"Varme",{"$f":"'Grunddata og resultat'!E33","v":0},{"$f":"'Grunddata og resultat'!F33","v":0}]
[null,"I alt",{"$f":"SUM(C37:C39)","v":0},0]
[]
[null,null,"Periode 3"]
[null,null,"Elforbrug","Besparelse"]
[null,null,"kWh/år","kWh/år"]
[null,"Lyskilder",{"$f":"'Grunddata og resultat'!G31","v":0},{"$f":"'Grunddata og resultat'!H31","v":0}]
[null,"Motorer",{"$f":"'Grunddata og resultat'!G32","v":0},{"$f":"'Grunddata og resultat'!H32","v":0}]
[null,"Varme",{"$f":"'Grunddata og resultat'!F33","v":0},{"$f":"'Grunddata og resultat'!G33","v":0}]
[null,"I alt",{"$f":"SUM(C45:C47)","v":0},0]
[]
[]
[null,null,"Sum periode 1-3"]
[null,null,"Elforbrug","Besparelse"]
[null,null,"kWh/år","kWh/år"]
[null,"Lyskilder",{"$f":"'Grunddata og resultat'!I31","v":0},{"$f":"'Grunddata og resultat'!J31","v":0}]
[null,"Motorer",{"$f":"'Grunddata og resultat'!I32","v":0},{"$f":"'Grunddata og resultat'!J32","v":0}]
[null,"Varme",{"$f":"'Grunddata og resultat'!I33","v":0},{"$f":"'Grunddata og resultat'!J33","v":0}]
[null,"I alt",{"$f":"SUM(C54:C56)","v":0},0]
[]
[]
[null,"Data til lagkage:","kWh/år","%"]
[null,"Lyskilder efter besparelsen",{"$f":"'Grunddata og resultat'!C37","v":0},{"$f":"'Grunddata og resultat'!D37","v":""}]
[null,"Elbesparelse, lyskilder",{"$f":"'Grunddata og resultat'!C38","v":0},{"$f":"'Grunddata og resultat'!D38","v":""}]
[null,"Motorer efter besparelsen",{"$f":"'Grunddata og resultat'!C39","v":0},{"$f":"'Grunddata og resultat'!D39","v":""}]
[null,"Elbesparelse, motorer",{"$f":"'Grunddata og resultat'!C40","v":0},{"$f":"'Grunddata og resultat'!D40","v":""}]
[null,"Varme efter besparelsen",{"$f":"'Grunddata og resultat'!C41","v":0},{"$f":"'Grunddata og resultat'!D41","v":""}]
[null,"Elbesparelse, varme",{"$f":"'Grunddata og resultat'!C42","v":0},{"$f":"'Grunddata og resultat'!D42","v":""}]
[null,"Elforbrug, der ikke påvirkes",{"$f":"'Grunddata og resultat'!C43","v":0},{"$f":"'Grunddata og resultat'!D43","v":""}]
[]
[]
[]
[]
[]
[]
[]
[]
[]
[]
[]
[]
[]
[]
[]
[]
[]
[]
[]
[]
[]
[]
[]
[]
[]
[]
[]
[]
[]
[]
[]
[]
[]
[null,"Økonomi (levetidsomkostninger):"]
[]
[null,"Anlægsudgifter"]
[]
[null,"Anlægspris (Cic)","[Kr.]",{"$f":"'Grunddata og resultat'!D58","v":0}]
[]
[null,"Levetid og energipris"]
[]
[null,"Anlæggets levetid","[år]",{"$f":"'Grunddata og resultat'!D62","v":0}]
[]
[null,"Energipris","[Kr./kWh]",{"$f":"'Grunddata og resultat'!D64","v":0}]
[]
[null,"Driftsudgifter"]
[]
[null,"Energiforbrug","[kWh/år]",{"$f":"SUM(C84,C86,C88,C90)","v":0}]
[null,"Energiomkostninger i alt i anlæggets "]
[null,"levetid [Ce]","[Kr.]",{"$f":"D115*D111*D109","v":0}]
[]
[null,"Service og vedligehold"]
[null,"Service- og vedligeholdelsesomkostninger "]
[null,"i anlæggets levetid [Cm]","[Kr.]",{"$f":"'Grunddata og resultat'!D74","v":0}]
[]
[null,"LCC - Life Cycle Cost (levetidsomkostninger)"]
[]
[null,"LCC = Cic + Ce + Cm","[Kr.]",{"$f":"D105+D117+D121","v":0}]